BEGIN:VCALENDAR
PRODID:NingEventWidget-v1
VERSION:2.0
METHOD:PUBLISH
BEGIN:VTIMEZONE
TZID:Europe/London
X-LIC-LOCATION:Europe/London
BEGIN:DAYLIGHT
TZOFFSETFROM:+0000
TZOFFSETTO:+0100
TZNAME:BST
DTSTART:19700329T010000
RRULE:FREQ=YEARLY;BYMONTH=3;BYDAY=-1SU
END:DAYLIGHT
BEGIN:STANDARD
TZOFFSETFROM:+0100
TZOFFSETTO:+0000
TZNAME:GMT
DTSTART:19701025T020000
RRULE:FREQ=YEARLY;BYMONTH=10;BYDAY=-1SU
END:STANDARD
END:VTIMEZONE
BEGIN:VEVENT
UID:6278630:Event:84710
DTSTAMP:20260419T133434Z
SUMMARY:St Harmonicas Blues Club: Professor Redhair
DESCRIPTION:This Friday, drummer Niol Sweeney, the finest left-handed 
 drummer ever to come out of Ireland, brings his stellar line up, 'Prof
 essor Redhair' to the club for a set that includes Blues, Jazz, Rock a
 nd possibly a hint of Musical Theatre, all heavily influenced by New O
 rleans rhythms.\n\nWith Professor Redhair himself, Jacob Thomas on pia
 no and vocals expect the deep southern shades of Dr John and Professor
  Longhair in the repertoire. The exceptional Jesse Thomas plays guitar
  and Dave Thomas provides bass and vocals complementing the outstandin
 g vocal talents of Chrissie and Phoebe Thomas. Simon Bennett brings hi
 s impressive red organ to provide additional swell plus second guitar 
 to the overall Professor Redhair sound. We are delighted, this week to
  have the formidable Jerry Palmer bringing his sax appeal to the lineu
 p. This is a big band, that makes a big sound!\n\nSupport this week co
 mes in the form of the entertaining Blue Dolphins featuring more top d
 rawer piano work.\n\nPlease note that Professor Redhair carries full B
 lues Police approval.\n\n\nSee you there for a 9.00pm start.\n \nThe 
 Vintage Blues Club St Harmonicas\n6 Cannon Hill, Southgate, N14 7HG\n\
 nMore Info: www.thevintage.org.uk\n \n\nFor more information visit ht
 tps://bowesandbounds.org/events/st-harmonicas-blues-club-professor-red
 hair
DTSTART;TZID=Europe/London:20141010T203000
DTEND;TZID=Europe/London:20141010T233000
CATEGORIES:music
LOCATION:Southgate
WEBSITE:http://maps.google.com/maps?f=q&source=s_q&hl=en&geocode=&q=n1
 4+7hg&sll=37.0625,-95.677068&sspn=48.641855,74.707031&ie=UTF8&hq=&hnea
 r=London+N14+7HG,+United+Kingdom&z=16
URL:http://maps.google.com/maps?f=q&source=s_q&hl=en&geocode=&q=n14+7h
 g&sll=37.0625,-95.677068&sspn=48.641855,74.707031&ie=UTF8&hq=&hnear=Lo
 ndon+N14+7HG,+United+Kingdom&z=16
CONTACT:
ORGANIZER;CN=Administrator:https://bowesandbounds.org/profile/Administ
 rator
ATTACH;FMTTYPE="image/jpeg":http://storage.ning.com/topology/rest/1.0/
 file/get/2287244844?profile=original
ATTENDEE;ROLE=REQ-PARTICIPANT;PARTSTAT=ACCEPTED;RSVP=TRUE;CN=Administr
 ator:https://bowesandbounds.org/profile/Administrator
END:VEVENT
END:VCALENDAR
