BEGIN:VCALENDAR
PRODID:NingEventWidget-v1
VERSION:2.0
METHOD:PUBLISH
BEGIN:VTIMEZONE
TZID:Europe/London
X-LIC-LOCATION:Europe/London
BEGIN:DAYLIGHT
TZOFFSETFROM:+0000
TZOFFSETTO:+0100
TZNAME:BST
DTSTART:19700329T010000
RRULE:FREQ=YEARLY;BYMONTH=3;BYDAY=-1SU
END:DAYLIGHT
BEGIN:STANDARD
TZOFFSETFROM:+0100
TZOFFSETTO:+0000
TZNAME:GMT
DTSTART:19701025T020000
RRULE:FREQ=YEARLY;BYMONTH=10;BYDAY=-1SU
END:STANDARD
END:VTIMEZONE
BEGIN:VEVENT
UID:6278630:Event:65642
DTSTAMP:20260425T152006Z
SUMMARY:St Harmonicas Blues Club: The Right Reverend Swifty LeZarre
DESCRIPTION:We're delighted to welcome The Right Reverend Swifty LeZar
 re to St Harmonica's this Friday with his band the Smokers.\nThe Right
  Reverend Swifty LeZarre has updated some of the best classic Rhythm &
  Blues from both pre and post war blues and brought a hard driving edg
 e to supplement his stellar Dobro playing. Imagine Elmore James meetin
 g Duanne Allman at the crossroads with the lyrical sensibility of Wood
 y Guthrie and Bob Dylan. Twenty years out of New York City, Swifty's h
 istory is steeped in mythology. He says he sold his soul to the devil 
 for his rugged good looks and unparalleled guitar playing ability; but
  the Rev kicked the Devil on the blind-side and took his soul back. Th
 e Devil, who appreciates irony, couldn't stay mad and admitted he shou
 ld have seen it coming. They now play poker every second Tuesday of th
 e month.\nDon't miss Swifty's high energy performancesee below and and
  check out some more on You Tube.\n Half time support from the God Fat
 her of North London Blues, the Mad Dog Dave Barnes.\nDon't miss this. 
 See you there.\n \nThe Vintage Blues Club St Harmonicas 6 Cannon Hill
 , Southgate, N14 7HG  More Info: www.thevintage.org.uk\n \n\n\nFor mor
 e information visit https://bowesandbounds.org/events/st-harmonicas-bl
 ues-club-swifty-le-zarre
DTSTART;TZID=Europe/London:20130913T210000
DTEND;TZID=Europe/London:20130913T233000
CATEGORIES:music
LOCATION:Southgate
WEBSITE:http://maps.google.com/maps?f=q&source=s_q&hl=en&geocode=&q=n1
 4+7hg&sll=37.0625,-95.677068&sspn=48.641855,74.707031&ie=UTF8&hq=&hnea
 r=London+N14+7HG,+United+Kingdom&z=16
URL:http://maps.google.com/maps?f=q&source=s_q&hl=en&geocode=&q=n14+7h
 g&sll=37.0625,-95.677068&sspn=48.641855,74.707031&ie=UTF8&hq=&hnear=Lo
 ndon+N14+7HG,+United+Kingdom&z=16
CONTACT:
ORGANIZER:Administrator
ATTACH;FMTTYPE="image/jpeg":http://storage.ning.com/topology/rest/1.0/
 file/get/2287246056?profile=original
ATTENDEE;ROLE=REQ-PARTICIPANT;PARTSTAT=ACCEPTED;RSVP=TRUE;CN="Richard 
 McKeever":https://bowesandbounds.org/profile/3hwxkqhdde8gc
END:VEVENT
END:VCALENDAR
