BEGIN:VCALENDAR
PRODID:NingEventWidget-v1
VERSION:2.0
METHOD:PUBLISH
BEGIN:VTIMEZONE
TZID:Europe/London
X-LIC-LOCATION:Europe/London
BEGIN:DAYLIGHT
TZOFFSETFROM:+0000
TZOFFSETTO:+0100
TZNAME:BST
DTSTART:19700329T010000
RRULE:FREQ=YEARLY;BYMONTH=3;BYDAY=-1SU
END:DAYLIGHT
BEGIN:STANDARD
TZOFFSETFROM:+0100
TZOFFSETTO:+0000
TZNAME:GMT
DTSTART:19701025T020000
RRULE:FREQ=YEARLY;BYMONTH=10;BYDAY=-1SU
END:STANDARD
END:VTIMEZONE
BEGIN:VEVENT
UID:6278630:Event:83026
DTSTAMP:20260425T005528Z
SUMMARY:St Harmonicas Blues Club: The Customtones
DESCRIPTION:A well respected music journalist was overheard leaving th
 e Blues Stage at 'Livestock' on Saturday saying that he had just watch
 ed the best Blues band he'd ever seen in his life. He was referring to
  The Customtones, and he may well be right. They were a smash hit on t
 he Bandstand at Broomfield Park at the beginning of August and equall
 y acclaimed at Livestock last Saturday.\nMartin Fieber builds his own 
 guitars under the Customtone label and he gets a unique sound from the
 m. Variously dubbed as 'The Sultan of Slide' and 'Britain's best kept 
 slide secret', Martin is a virtuoso player and great frontman for his 
 band of accomplished musicians. Mick Parker on drums, Steve Taylor on 
 keyboards and Terry Duggan on bass; their collective musicianship is h
 ard to surpass. Don't miss them, one of the best bands around.\nSuppor
 t is in the form of Mad Dog Dave Barnes. An extra dose of superb slide
  guitar-playing.\nFree entry.  Last entry 11pm.\n\n \nThe Vintage Bl
 ues Club St Harmonicas 6 Cannon Hill, Southgate, N14 7HG  More Info: w
 ww.thevintage.org.uk\n\nFor more information visit https://bowesandbou
 nds.org/events/st-harmonicas-blues-club-the-customtones-3
DTSTART;TZID=Europe/London:20140905T203000
DTEND;TZID=Europe/London:20140905T233000
CATEGORIES:music
LOCATION:Southgate
WEBSITE:http://maps.google.com/maps?f=q&source=s_q&hl=en&geocode=&q=n1
 4+7hg&sll=37.0625,-95.677068&sspn=48.641855,74.707031&ie=UTF8&hq=&hnea
 r=London+N14+7HG,+United+Kingdom&z=16
URL:http://maps.google.com/maps?f=q&source=s_q&hl=en&geocode=&q=n14+7h
 g&sll=37.0625,-95.677068&sspn=48.641855,74.707031&ie=UTF8&hq=&hnear=Lo
 ndon+N14+7HG,+United+Kingdom&z=16
CONTACT:
ORGANIZER;CN=Administrator:https://bowesandbounds.org/profile/Administ
 rator
ATTACH;FMTTYPE="image/jpeg":http://storage.ning.com/topology/rest/1.0/
 file/get/2287257236?profile=original
ATTENDEE;ROLE=REQ-PARTICIPANT;PARTSTAT=ACCEPTED;RSVP=TRUE;CN=Administr
 ator:https://bowesandbounds.org/profile/Administrator
END:VEVENT
END:VCALENDAR
