BEGIN:VCALENDAR
PRODID:NingEventWidget-v1
VERSION:2.0
METHOD:PUBLISH
BEGIN:VTIMEZONE
TZID:Europe/London
X-LIC-LOCATION:Europe/London
BEGIN:DAYLIGHT
TZOFFSETFROM:+0000
TZOFFSETTO:+0100
TZNAME:BST
DTSTART:19700329T010000
RRULE:FREQ=YEARLY;BYMONTH=3;BYDAY=-1SU
END:DAYLIGHT
BEGIN:STANDARD
TZOFFSETFROM:+0100
TZOFFSETTO:+0000
TZNAME:GMT
DTSTART:19701025T020000
RRULE:FREQ=YEARLY;BYMONTH=10;BYDAY=-1SU
END:STANDARD
END:VTIMEZONE
BEGIN:VEVENT
UID:6278630:Event:138081
DTSTAMP:20260419T132402Z
SUMMARY:St Michael at Bowes Church Healing Seminar with Pastor Steve N
 icholson
DESCRIPTION:St Michael at Bowes Church offers a seminar on a Christian
  view of healing with Pastor Steven Nicholson, senior pastor of Evanst
 on Vineyard Church, Chicago USA. \nThe seminar will have three sessio
 ns starting from 15.00 to 20.00 There will be breaks to pray for peopl
 e who needs prayers as well. The event is open for all who are interes
 ted in the subject. \n\nFor more information visit https://bowesandbo
 unds.org/events/st-michael-at-bowes-church-healing-seminar-with-pastor
 -steve
DTSTART;TZID=Europe/London:20190921T150000
DTEND;TZID=Europe/London:20190921T200000
CATEGORIES:seminar, on, a, christian, view, healing
LOCATION:St Michael at Bowes Church
WEBSITE:
URL:
CONTACT:
ORGANIZER;CN="Revd Engin YILDIRIM":https://bowesandbounds.org/profile/
 RevdEnginYILDIRIM
ATTACH;FMTTYPE="image/jpeg":https://storage.ning.com/topology/rest/1.0
 /file/get/3559670925?profile=original
ATTENDEE;ROLE=REQ-PARTICIPANT;PARTSTAT=ACCEPTED;RSVP=TRUE;CN="Revd Eng
 in YILDIRIM":https://bowesandbounds.org/profile/RevdEnginYILDIRIM
END:VEVENT
END:VCALENDAR
