BEGIN:VCALENDAR
PRODID:NingEventWidget-v1
VERSION:2.0
METHOD:PUBLISH
BEGIN:VTIMEZONE
TZID:Europe/London
X-LIC-LOCATION:Europe/London
BEGIN:DAYLIGHT
TZOFFSETFROM:+0000
TZOFFSETTO:+0100
TZNAME:BST
DTSTART:19700329T010000
RRULE:FREQ=YEARLY;BYMONTH=3;BYDAY=-1SU
END:DAYLIGHT
BEGIN:STANDARD
TZOFFSETFROM:+0100
TZOFFSETTO:+0000
TZNAME:GMT
DTSTART:19701025T020000
RRULE:FREQ=YEARLY;BYMONTH=10;BYDAY=-1SU
END:STANDARD
END:VTIMEZONE
BEGIN:VEVENT
UID:6278630:Event:107299
DTSTAMP:20260423T231456Z
SUMMARY:St Patrick's Day Festival and Parade 2016
DESCRIPTION:Celebrate St Patrick’s Day in the heart of central Londo
 n. This lively event brings the best of Irish culture and a packed pro
 gramme of great entertainment to Trafalgar Square.\nThere’s a colour
 ful parade too which assembles in Green Park leaves via Piccadilly at 
 midday and winds its way to Trafalgar Square. Featuring a showcase of 
 London Irish sports clubs, dance schools, marching bands, community or
 ganisations and pageantry, come along and cheer them on!\nApplications
  are now open to participate in the 2016 London St Patrick's Day Para
 de. Please register if you and your organisation/group wish to take pa
 rt. \nFAQ\nWhat is the application deadline? To register CLICK HERE\
 nCommunity Organisations must  register By Friday 19th February 2016\
 nWhat if I wish to have multiple floats?\nEvery float must be entered 
 as a separate application\nWhen will I hear if my application is succe
 ssful?\nBy Friday February 26th 2016\nWhen will I get my position in t
 he parade and further joining instructions?\n A full parade line up a
 nd information pack will be sent the week before the parade. \n\n\n\n
 \nFor more information visit https://bowesandbounds.org/events/st-patr
 ick-s-day-festival-and-parade-2016
DTSTART;TZID=Europe/London:20160313T120000
DTEND;TZID=Europe/London:20160313T180000
CATEGORIES:st_patricks_day
LOCATION:Trafalgar Square and environs
WEBSITE:http://www.london.gov.uk/events/2016-03-13/st-patricks-day-fes
 tival-and-parade-2016
URL:http://www.london.gov.uk/events/2016-03-13/st-patricks-day-festiva
 l-and-parade-2016
CONTACT:
ORGANIZER;CN="Donald Smith":https://bowesandbounds.org/profile/DonaldS
 mith
ATTACH;FMTTYPE="image/jpeg":
END:VEVENT
END:VCALENDAR
