BEGIN:VCALENDAR
PRODID:NingEventWidget-v1
VERSION:2.0
METHOD:PUBLISH
BEGIN:VTIMEZONE
TZID:Europe/London
X-LIC-LOCATION:Europe/London
BEGIN:DAYLIGHT
TZOFFSETFROM:+0000
TZOFFSETTO:+0100
TZNAME:BST
DTSTART:19700329T010000
RRULE:FREQ=YEARLY;BYMONTH=3;BYDAY=-1SU
END:DAYLIGHT
BEGIN:STANDARD
TZOFFSETFROM:+0100
TZOFFSETTO:+0000
TZNAME:GMT
DTSTART:19701025T020000
RRULE:FREQ=YEARLY;BYMONTH=10;BYDAY=-1SU
END:STANDARD
END:VTIMEZONE
BEGIN:VEVENT
UID:6278630:Event:247081
DTSTAMP:20260419T162840Z
SUMMARY:Stan Brunt Quartet
DESCRIPTION:Doors open 7pm, music starts at 8pm.\n\nBand Line-up: Stan
  Brunt - Guitar, Reuben Goldmark - Piano, Lorenzo Morabito - Bass, Kai
  Macrae – Drums\nStan Brunt is an award winning Jazz guitarist and c
 omposer from Leeds, who has moved to London to study at the Royal Acad
 emy of Music. Currently in his fourth and final year, he has received 
 tuition from some of the best players and teachers on the UK and Europ
 ean music scene. Stan combines a mix of contemporary and older styles 
 in his playing and writing, creating a unique and special sound. With 
 his quartet they blend together to form a unique and engaging performa
 nce, playing intricate originals and arrangements bound to captivate a
 ny audience.\nKaramel - 4 Coburg Road, London N22 6UJ The Karamel vega
 n kitchen will be serving food until 9.30pm. Email karamel8775@gmail.
 com to book a table.\nTickets: £5 in advance from www.musicglue.com
 /karamel or £10 On The Door.\n\nDoors open 7pm, music starts at 8pm.
 \n\nFor more information visit https://bowesandbounds.org/events/stan-
 brunt-quartet
DTSTART;TZID=Europe/London:20240509T200000
DTEND;TZID=Europe/London:20240509T220000
CATEGORIES:music, jazz, veganvenue
LOCATION:Karamel, 4 Coburg Road N22 6UJ
WEBSITE:https://www.musicglue.com/karamel/
URL:https://www.musicglue.com/karamel/
CONTACT:
ORGANIZER;CN="Collage Artspaces":https://bowesandbounds.org/profile/Co
 llage_Arts
ATTACH;FMTTYPE="image/jpeg":https://storage.ning.com/topology/rest/1.0
 /file/get/12437563471?profile=original
ATTENDEE;ROLE=REQ-PARTICIPANT;PARTSTAT=ACCEPTED;RSVP=TRUE;CN="Collage 
 Artspaces":https://bowesandbounds.org/profile/Collage_Arts
END:VEVENT
END:VCALENDAR
