BEGIN:VCALENDAR
PRODID:NingEventWidget-v1
VERSION:2.0
METHOD:PUBLISH
BEGIN:VTIMEZONE
TZID:Europe/London
X-LIC-LOCATION:Europe/London
BEGIN:DAYLIGHT
TZOFFSETFROM:+0000
TZOFFSETTO:+0100
TZNAME:BST
DTSTART:19700329T010000
RRULE:FREQ=YEARLY;BYMONTH=3;BYDAY=-1SU
END:DAYLIGHT
BEGIN:STANDARD
TZOFFSETFROM:+0100
TZOFFSETTO:+0000
TZNAME:GMT
DTSTART:19701025T020000
RRULE:FREQ=YEARLY;BYMONTH=10;BYDAY=-1SU
END:STANDARD
END:VTIMEZONE
BEGIN:VEVENT
UID:6278630:Event:94871
DTSTAMP:20260420T090654Z
SUMMARY:Stephen Raine - Piano Recital
DESCRIPTION:Free entry with retiring collection\nPROGRAMME\nJ.S. Bach 
 (1685 - 1750) French Suite No. 5 in G Major BWV 816\nJ.S Bach arr. Bus
 oni Choral \"Ich ruf zu Dir, Herr Jesu Christ\" BWV 639F.\nSchubert (1
 797 - 1828) Impromptu Op. 90 No. 2 in E flat Major Impromptu Op. 90 No
 . 3 in G flat Major\nW.A. Mozart (1756 - 1791) Piano Sonata No. 14 in 
 C minor, K. 457\nStephen Raine graduated from the London College of Mu
 sic with First Class Honours in 2013. He was born in Durham and began 
 studying music at the age of 6 before moving to London to study. This 
 season Stephen continues to perform regularly around the UK and in Apr
 il this year he recorded his first commercial album containing works o
 f J.S. Bach and Beethoven. \nwww.stephenraine.com\n\nFor more informa
 tion visit https://bowesandbounds.org/events/stephen-raine-piano-recit
 al
DTSTART;TZID=Europe/London:20150613T193000
DTEND;TZID=Europe/London:20150613T203000
CATEGORIES:classical, music, concert
LOCATION:Palmers Green United Reformed Church
WEBSITE:http://www.palmersgreenurc.org.uk/
URL:http://www.palmersgreenurc.org.uk/
CONTACT:
ORGANIZER;CN="Stephen Raine":https://bowesandbounds.org/profile/Stephe
 nRaine
ATTACH;FMTTYPE="image/jpeg":http://storage.ning.com/topology/rest/1.0/
 file/get/2287284727?profile=original
ATTENDEE;ROLE=REQ-PARTICIPANT;PARTSTAT=ACCEPTED;RSVP=TRUE;CN="Stephen 
 Raine":https://bowesandbounds.org/profile/StephenRaine
END:VEVENT
END:VCALENDAR
