BEGIN:VCALENDAR
PRODID:NingEventWidget-v1
VERSION:2.0
METHOD:PUBLISH
BEGIN:VTIMEZONE
TZID:Europe/London
X-LIC-LOCATION:Europe/London
BEGIN:DAYLIGHT
TZOFFSETFROM:+0000
TZOFFSETTO:+0100
TZNAME:BST
DTSTART:19700329T010000
RRULE:FREQ=YEARLY;BYMONTH=3;BYDAY=-1SU
END:DAYLIGHT
BEGIN:STANDARD
TZOFFSETFROM:+0100
TZOFFSETTO:+0000
TZNAME:GMT
DTSTART:19701025T020000
RRULE:FREQ=YEARLY;BYMONTH=10;BYDAY=-1SU
END:STANDARD
END:VTIMEZONE
BEGIN:VEVENT
UID:6278630:Event:251005
DTSTAMP:20260422T004656Z
SUMMARY:Still Waters
DESCRIPTION:Line Up: Henry Lowther (trumpet), Pete Hurt (tenor sax), B
 arry Green (piano), Dave Green (bass), Paul Clarvis (drums).\nHenry Lo
 wther’s Still Waters was born out a long association and friendship,
  going back forty years, between Henry and bassist Dave Green. They bo
 th felt that the time had arrived to play the music of their choice, t
 ogether with some of the finest jazz musicians working in Britain toda
 y. As a result Still Waters is now one of the most accomplished, tight
 ly ensembled and creative bands around.\nAlthough a classic quintet of
  two front line and rhythm, Still Waters plays radical and original mu
 sic, ranging from gentle, quietly pastoral and melodic music, reflecti
 ng the band’s name, through to dynamic, free improvisation. Henry Lo
 wther was born in Leicester, England, in 1941. Over the last 60 years 
 Henry’s work on the British jazz scene reads like a “Who’s Who
 . He has played regularly with, amongst many others, Gordon Beck, Mic
 hael Garrick, Graham Collier, Mike Gibbs, Pete King, Loose Tubes, John
  Surman, John Taylor, Stan Tracey and Kenny Wheeler\n“Meltingly attr
 active solos, startling originality.” (Chris Parker, Vortex review).
 \nKaramel - 4 Coburg Road, London N22 6UJ. The Karamel vegan kitchen w
 ill be serving food until 9.30pm. Email karamel8775@gmail.com to book 
 a table for groups of 3+.\nDoors open 7pm. Music starts at 8pm.\n£7.5
 0 Early Bird £10 General Admission £5 Student\n\nFor more informatio
 n visit https://bowesandbounds.org/events/still-waters
DTSTART;TZID=Europe/London:20250703T190000
DTEND;TZID=Europe/London:20250703T220000
CATEGORIES:jazz, veganvenue, veganfood, livemusic
LOCATION:karamel, 4 Coburg Road, Wood Green, London N22 6UJ
WEBSITE:https://www.musicglue.com/karamel/events/2025-07-03-still-wate
 rs-karamel
URL:https://www.musicglue.com/karamel/events/2025-07-03-still-waters-k
 aramel
CONTACT:
ORGANIZER;CN="Collage Artspaces":https://bowesandbounds.org/profile/Co
 llage_Arts
ATTACH;FMTTYPE="image/jpeg":https://storage.ning.com/topology/rest/1.0
 /file/get/13564565277?profile=original
ATTENDEE;ROLE=REQ-PARTICIPANT;PARTSTAT=ACCEPTED;RSVP=TRUE;CN="Collage 
 Artspaces":https://bowesandbounds.org/profile/Collage_Arts
END:VEVENT
END:VCALENDAR
