BEGIN:VCALENDAR
PRODID:NingEventWidget-v1
VERSION:2.0
METHOD:PUBLISH
BEGIN:VTIMEZONE
TZID:Europe/London
X-LIC-LOCATION:Europe/London
BEGIN:DAYLIGHT
TZOFFSETFROM:+0000
TZOFFSETTO:+0100
TZNAME:BST
DTSTART:19700329T010000
RRULE:FREQ=YEARLY;BYMONTH=3;BYDAY=-1SU
END:DAYLIGHT
BEGIN:STANDARD
TZOFFSETFROM:+0100
TZOFFSETTO:+0000
TZNAME:GMT
DTSTART:19701025T020000
RRULE:FREQ=YEARLY;BYMONTH=10;BYDAY=-1SU
END:STANDARD
END:VTIMEZONE
BEGIN:VEVENT
UID:6278630:Event:248038
DTSTAMP:20260425T194209Z
SUMMARY:Stitch &amp; Knit Social!
DESCRIPTION:Come to our weekly Stitch & Knit Social on a Wednesday eve
 ning at the Fox pub.\nJoin us for some fabulous knitting and crafting 
 chat and share your knitting and sewing projects in a welcoming enviro
 nment.\nDATES: Next date- Wednesday 10th July, 7-9pm\nRUNS EVERY WEDN
 ESDAY \nCOST: £5\nLOCATION: The Fox Pub, 413 Green Lanes, N13 4JD\n\
 nFor more information visit https://bowesandbounds.org/events/stitch-a
 mp-knit-social
DTSTART;TZID=Europe/London:20240710T190000
DTEND;TZID=Europe/London:20240710T210000
CATEGORIES:craftings, social
LOCATION:The Fox Pub, 413 Green Lanes, N13 4JD
WEBSITE:https://www.stitch.org.uk/shop/Stitch-&amp;-Knit-Social-Every-
 Wednesday-@-The-Fox-Pub-N13-7-9pm-next-10th-July-p661517573
URL:https://www.stitch.org.uk/shop/Stitch-&amp;-Knit-Social-Every-Wedn
 esday-@-The-Fox-Pub-N13-7-9pm-next-10th-July-p661517573
CONTACT:
ORGANIZER;CN="Suzanne Kelly":https://bowesandbounds.org/profile/Suzann
 eKelly
ATTACH;FMTTYPE="image/jpeg":https://storage.ning.com/topology/rest/1.0
 /file/get/12702022059?profile=original
ATTENDEE;ROLE=REQ-PARTICIPANT;PARTSTAT=ACCEPTED;RSVP=TRUE;CN="Suzanne 
 Kelly":https://bowesandbounds.org/profile/SuzanneKelly
END:VEVENT
END:VCALENDAR
