BEGIN:VCALENDAR
PRODID:NingEventWidget-v1
VERSION:2.0
METHOD:PUBLISH
BEGIN:VTIMEZONE
TZID:Europe/London
X-LIC-LOCATION:Europe/London
BEGIN:DAYLIGHT
TZOFFSETFROM:+0000
TZOFFSETTO:+0100
TZNAME:BST
DTSTART:19700329T010000
RRULE:FREQ=YEARLY;BYMONTH=3;BYDAY=-1SU
END:DAYLIGHT
BEGIN:STANDARD
TZOFFSETFROM:+0100
TZOFFSETTO:+0000
TZNAME:GMT
DTSTART:19701025T020000
RRULE:FREQ=YEARLY;BYMONTH=10;BYDAY=-1SU
END:STANDARD
END:VTIMEZONE
BEGIN:VEVENT
UID:6278630:Event:47298
DTSTAMP:20260426T003421Z
SUMMARY:Stop the Cuts: Public Meeting
DESCRIPTION:Enfield Alliance Against the Cuts and Coalition of Resis
 tance have called this public meeting to bring together people who wan
 t to oppose the government’s austerity agenda locally – and nation
 ally.\nStop the CutsMonday 8th October, 7pmPalmers Green United Reform
  ChurchFox Lane, London N13 4AL\nSpeakers:Natalie Bennett (Leader of t
 he Green Party),Olivier Vardakoulias (Syriza)\n\nFor more information 
 visit https://bowesandbounds.org/events/stop-the-cuts-public-meeting
DTSTART;TZID=Europe/London:20121008T190000
DTEND;TZID=Europe/London:20121008T210000
CATEGORIES:public, meeting
LOCATION:Palmers Green United Reform Church
WEBSITE:http://www.coalitionofresistance.org.uk/event/enfield-public-m
 eeting-8-october/
URL:http://www.coalitionofresistance.org.uk/event/enfield-public-meeti
 ng-8-october/
CONTACT:
ORGANIZER;CN="John Mellor":https://bowesandbounds.org/profile/JohnMell
 or
ATTACH;FMTTYPE="image/jpeg":http://storage.ning.com/topology/rest/1.0/
 file/get/2287238380?profile=original
ATTENDEE;ROLE=REQ-PARTICIPANT;PARTSTAT=ACCEPTED;RSVP=TRUE;CN="John Mel
 lor":https://bowesandbounds.org/profile/JohnMellor
END:VEVENT
END:VCALENDAR
