BEGIN:VCALENDAR
PRODID:NingEventWidget-v1
VERSION:2.0
METHOD:PUBLISH
BEGIN:VTIMEZONE
TZID:Europe/London
X-LIC-LOCATION:Europe/London
BEGIN:DAYLIGHT
TZOFFSETFROM:+0000
TZOFFSETTO:+0100
TZNAME:BST
DTSTART:19700329T010000
RRULE:FREQ=YEARLY;BYMONTH=3;BYDAY=-1SU
END:DAYLIGHT
BEGIN:STANDARD
TZOFFSETFROM:+0100
TZOFFSETTO:+0000
TZNAME:GMT
DTSTART:19701025T020000
RRULE:FREQ=YEARLY;BYMONTH=10;BYDAY=-1SU
END:STANDARD
END:VTIMEZONE
BEGIN:VEVENT
UID:6278630:Event:245358
DTSTAMP:20260419T165748Z
SUMMARY:Storytelling Chair Workshop with Al Johnson
DESCRIPTION:Stroud Green artist and sculptor Al Johson will be making 
 the designs applied to two story chairs for the Haringey Feast.\nUsing
  worked textiles, she will be capturing our memories of the high stree
 t and Tottenham High Road and the vast range of shops, businesses and 
 restaurants in our communities that provide us with food – from the 
 past and today.\nIn this community workshop, you can get hands-on and 
 see how to stitch and work textiles whilst sharing your memories.\nBoo
 k your free ticket via Eventbrite.\nAbout the artist:\nAl Johnson is 
 a politically engaged sculptor who works with textiles. Her work consi
 ders recent history and the interplay between politics, power and the 
 collective memory. Her sculptures are constructed principally from wor
 ked textiles. Visit her website here.\nYou can also pop along to Bruc
 e Castle Museum on Tuesday 19 September, 2 – 4pm and take part in th
 e Reminiscence Café @ The Castle to share your memories – or maybe 
 you can bring a special recipe? Your stories and memories will help Al
  create content for her new community-inspired work for a story chair.
 \n\nFor more information visit https://bowesandbounds.org/events/story
 telling-chair-workshop-with-al-johnson
DTSTART;TZID=Europe/London:20230928T103000
DTEND;TZID=Europe/London:20230928T130000
CATEGORIES:"storytelling chair workshop"
LOCATION:Bruce Castle Museum
WEBSITE:https://www.brucecastle.org/events/storytelling-chair-workshop
 -al-johnson
URL:https://www.brucecastle.org/events/storytelling-chair-workshop-al-
 johnson
CONTACT:02084894250
ORGANIZER:museum.services@haringey.gov.uk
ATTACH;FMTTYPE="image/jpeg":https://storage.ning.com/topology/rest/1.0
 /file/get/12232487256?profile=original
ATTENDEE;ROLE=REQ-PARTICIPANT;PARTSTAT=ACCEPTED;RSVP=TRUE;CN="Mark Wel
 ls":https://bowesandbounds.org/profile/MarkWells
END:VEVENT
END:VCALENDAR
