BEGIN:VCALENDAR
PRODID:NingEventWidget-v1
VERSION:2.0
METHOD:PUBLISH
BEGIN:VTIMEZONE
TZID:Europe/London
X-LIC-LOCATION:Europe/London
BEGIN:DAYLIGHT
TZOFFSETFROM:+0000
TZOFFSETTO:+0100
TZNAME:BST
DTSTART:19700329T010000
RRULE:FREQ=YEARLY;BYMONTH=3;BYDAY=-1SU
END:DAYLIGHT
BEGIN:STANDARD
TZOFFSETFROM:+0100
TZOFFSETTO:+0000
TZNAME:GMT
DTSTART:19701025T020000
RRULE:FREQ=YEARLY;BYMONTH=10;BYDAY=-1SU
END:STANDARD
END:VTIMEZONE
BEGIN:VEVENT
UID:6278630:Event:62176
DTSTAMP:20260421T000139Z
SUMMARY:Summer Holiday Drama Club
DESCRIPTION:We are very excited to announce that the bookings for our 
 popular Summer holiday drama workshops are open. We will be using the 
 St. Monica's Parish Centre, which has several spacious rooms for us to
  use, a large garden and play area, and accessible toilets. \n\nTheme
 s: \nIntroductory stage (4-7 year olds)\nPinocchio and his friends\nC
 hildren will step into a story and discover the characters through mov
 ement, song, poetry and improvised adventures. They will also make cos
 tumes, props and masks and put everything together on the last day in 
 a presentation for friends and family.\n\nJunior stage (7-11 year olds
 )\nIncredibly naughty children!\nChildren will explore their theme usi
 ng devising drama, physical theatre, creative writing, mime and many o
 ther performance and communication techniques, as well as costume, pro
 p and mask-making. The week will culminate in a recital for friends an
 d family which showcases their work.\nTimes:\nMorning 9.30-12.30\nAfte
 rnoon 12.30-3.30\nFull Day 9.30-3.30\n\nFees:\nDaily Rate\nHalf day £
 21 Full Day £35\nWeekly Rate\nHalf Days £85 Full Days £135\n\nThe f
 inal week presentations will take place on Friday afternoon at 3pm.\n\
 nTestimonials from last year:\n\"Thank you for the most stimulating we
 ek-long workshop which our son Neil attended. He enjoyed every moment 
 of it. Apart from the junior performance, which we enjoyed very much 
 for Neil's participation, I must congratulate you on the 'space-time' 
 show put up by the older kids. I came away utterly gobsmacked. The c
 ontent and overall inventiveness was amazing and the confidence with w
 hich the kids performed quite astonishing. \"\n\n“The boys couldn't
  say enough about the workshop so thank you very much!” \n\n“The 
 children were clearly both happy and excited to be performing in front
  of their parents”\n\n“Our child learns new skills and develops h
 er confidence while – in her words – ‘having lots of fun, dad’
 .”\n\n“The Playing Space offers something quite unique. This is n
 ot a 'production line' operation... there is a sincere appreciation of
  the uniqueness of each child's character.”\n\n“My son was buoyant
  when he came out of the class.” \n\n“Tania absolutely loved comi
 ng to The Summer workshops... thanks for making the  time she had the
 re so very enjoyable.” \n\n“They all said the best treat they cou
 ld have would be to do drama again!” \n\nFor more information visit
  https://bowesandbounds.org/events/summer-holiday-drama-club
DTSTART;TZID=Europe/London:20130729T000000
DTEND;TZID=Europe/London:20130802T235900
CATEGORIES:drama, workshop
LOCATION:St. Monica's Parish Center
WEBSITE:https://maps.google.com/
URL:https://maps.google.com/
CONTACT:07817 420392
ORGANIZER;CN="Gabi Maddocks":https://bowesandbounds.org/profile/GabiMa
 ddocks
ATTACH;FMTTYPE="image/jpeg":http://storage.ning.com/topology/rest/1.0/
 file/get/2287250699?profile=original
ATTENDEE;ROLE=REQ-PARTICIPANT;PARTSTAT=ACCEPTED;RSVP=TRUE;CN="Gabi Mad
 docks":https://bowesandbounds.org/profile/GabiMaddocks
END:VEVENT
END:VCALENDAR
