BEGIN:VCALENDAR
PRODID:NingEventWidget-v1
VERSION:2.0
METHOD:PUBLISH
BEGIN:VTIMEZONE
TZID:Europe/London
X-LIC-LOCATION:Europe/London
BEGIN:DAYLIGHT
TZOFFSETFROM:+0000
TZOFFSETTO:+0100
TZNAME:BST
DTSTART:19700329T010000
RRULE:FREQ=YEARLY;BYMONTH=3;BYDAY=-1SU
END:DAYLIGHT
BEGIN:STANDARD
TZOFFSETFROM:+0100
TZOFFSETTO:+0000
TZNAME:GMT
DTSTART:19701025T020000
RRULE:FREQ=YEARLY;BYMONTH=10;BYDAY=-1SU
END:STANDARD
END:VTIMEZONE
BEGIN:VEVENT
UID:6278630:Event:251372
DTSTAMP:20260422T140412Z
SUMMARY:Sunday roast &amp; board games! Geekstraveganza @ Karamel
DESCRIPTION:\n🎲 Geekstraveganza: board games & vegan food! 🌱\n
 ️ Entry: totally free, just RSVP!🗓 Date: Sunday, 17 August 2025
 🕙 Time: 1:00 PM – 7:00 PM📍 Location: Karamel Club - 4 Coburg R
 d, London N22 6UJ\n💬 Join our group chat in the London Vegan Networ
 k community on WhatsApp\n🎲 Geekstraveganza is an informal gathering
  to play board/card games while socialising and enjoying delicious veg
 an food! We will have a selection of our favourites, and you're welcom
 e to bring any game you want to play.\n🤓 Our regulars are always ha
 ppy to teach rules to newcomers, and the hosts can introduce you to ot
 her attendees if you like. Everyone is welcome, no matter your level o
 f “geekiness”: quick & easy games will be on offer as well as more
  complex ones. Feel free to join us at any time, since new games will 
 start as people arrive.\n🚉 The closest stations are Wood Green and 
 Alexandra Palace.\n➡️ Once inside the venue, head for the room beh
 ind the bar and you can't miss us (although we often use some tables i
 n the main restaurant area as well). Look for the hosts if you want to
  be introduced to the group or would like a suggestion for which games
  to play.\n🤤 The venue has a 100% vegan kitchen and bar. They're ki
 ndly hosting us for free, so please make sure to buy some of their del
 icious food and drinks to show your support. Don't miss Kath & Roger's
  legendary (and huge!) Sunday roast with all the trimmings.\n♿️ Th
 e entrance to the venue is step-free and there is a wheelchair-accessi
 ble toilet.\n🐶 The venue is dog-friendly, so feel free to bring you
 r furry friends if they'll enjoy it.\n\nFor more information visit htt
 ps://bowesandbounds.org/events/sunday-roast-amp-board-games-geekstrave
 ganza-karamel
DTSTART;TZID=Europe/London:20250817T130000
DTEND;TZID=Europe/London:20250817T190000
CATEGORIES:vegan-venue, vegan-food, board-games, community-event
LOCATION:karamel, 4 Coburg Road, Wood Green, London N22 6UJ
WEBSITE:https://www.meetup.com/londonvegan/events/308504721/?recId=ddf
 78c68-84c2-4b27-a532-430854a86341&amp;recSource=event-search&amp;searc
 hId=eae4cb4b-3710-4bc4-b7a5-67533e390821&amp;eventOrigin=find_page%24a
 ll
URL:https://www.meetup.com/londonvegan/events/308504721/?recId=ddf78c6
 8-84c2-4b27-a532-430854a86341&amp;recSource=event-search&amp;searchId=
 eae4cb4b-3710-4bc4-b7a5-67533e390821&amp;eventOrigin=find_page%24all
CONTACT:
ORGANIZER;CN="Collage Artspaces":https://bowesandbounds.org/profile/Co
 llage_Arts
ATTACH;FMTTYPE="image/jpeg":https://storage.ning.com/topology/rest/1.0
 /file/get/13676237897?profile=original
ATTENDEE;ROLE=REQ-PARTICIPANT;PARTSTAT=ACCEPTED;RSVP=TRUE;CN="Collage 
 Artspaces":https://bowesandbounds.org/profile/Collage_Arts
END:VEVENT
END:VCALENDAR
