BEGIN:VCALENDAR
PRODID:NingEventWidget-v1
VERSION:2.0
METHOD:PUBLISH
BEGIN:VTIMEZONE
TZID:Europe/London
X-LIC-LOCATION:Europe/London
BEGIN:DAYLIGHT
TZOFFSETFROM:+0000
TZOFFSETTO:+0100
TZNAME:BST
DTSTART:19700329T010000
RRULE:FREQ=YEARLY;BYMONTH=3;BYDAY=-1SU
END:DAYLIGHT
BEGIN:STANDARD
TZOFFSETFROM:+0100
TZOFFSETTO:+0000
TZNAME:GMT
DTSTART:19701025T020000
RRULE:FREQ=YEARLY;BYMONTH=10;BYDAY=-1SU
END:STANDARD
END:VTIMEZONE
BEGIN:VEVENT
UID:6278630:Event:130705
DTSTAMP:20260421T151314Z
SUMMARY:Supporters of Alexandra Park Library Annual General Meeting
DESCRIPTION:\n\nFor more information visit https://bowesandbounds.org/
 events/supporters-of-alexandra-park-library-annual-general-meeting
DTSTART;TZID=Europe/London:20180323T170000
DTEND;TZID=Europe/London:20180323T190000
CATEGORIES:annual, general, meeting
LOCATION:Alexandra Park Library
WEBSITE:
URL:
CONTACT:
ORGANIZER;CN="Anna Maudar":https://bowesandbounds.org/profile/AnnaMaud
 ar
ATTACH;FMTTYPE="image/jpeg":
ATTENDEE;ROLE=REQ-PARTICIPANT;PARTSTAT=ACCEPTED;RSVP=TRUE;CN="Anna Mau
 dar":https://bowesandbounds.org/profile/AnnaMaudar
END:VEVENT
END:VCALENDAR
