BEGIN:VCALENDAR
PRODID:NingEventWidget-v1
VERSION:2.0
METHOD:PUBLISH
BEGIN:VTIMEZONE
TZID:Europe/London
X-LIC-LOCATION:Europe/London
BEGIN:DAYLIGHT
TZOFFSETFROM:+0000
TZOFFSETTO:+0100
TZNAME:BST
DTSTART:19700329T010000
RRULE:FREQ=YEARLY;BYMONTH=3;BYDAY=-1SU
END:DAYLIGHT
BEGIN:STANDARD
TZOFFSETFROM:+0100
TZOFFSETTO:+0000
TZNAME:GMT
DTSTART:19701025T020000
RRULE:FREQ=YEARLY;BYMONTH=10;BYDAY=-1SU
END:STANDARD
END:VTIMEZONE
BEGIN:VEVENT
UID:6278630:Event:51862
DTSTAMP:20260419T135156Z
SUMMARY:Sustainable Bowes Park: Home energy-saving advice
DESCRIPTION:The latest Sustainable Bowes Park event will focus on Home
  energy saving advice:  come along and find out how to make your hom
 e more energy-efficient, comfortable, and cheap to run.\nAdvice will b
 e available on how to understand your fuel bills, switch energy suppli
 er, cut costs and install simple draughtproofing. A a fun workshop wil
 l enable participants to make their own draught excluder to take home.
 \nFree admission and refreshments.  Cut-price energy-saving products 
 for sale.\n\n\nFor more information visit https://bowesandbounds.org/e
 vents/sustainable-bowes-park-home-energy-saving-advice-event
DTSTART;TZID=Europe/London:20130129T190000
DTEND;TZID=Europe/London:20130129T210000
CATEGORIES:sustainable, energy
LOCATION:TaB Centre
WEBSITE:http://www.bowesandbounds.org/forum/topics/sustainable-bowes-p
 ark-events-and-discussion-programme
URL:http://www.bowesandbounds.org/forum/topics/sustainable-bowes-park-
 events-and-discussion-programme
CONTACT:
ORGANIZER:
ATTACH;FMTTYPE="image/jpeg":http://storage.ning.com/topology/rest/1.0/
 file/get/2063512938?profile=original
ATTENDEE;ROLE=REQ-PARTICIPANT;PARTSTAT=ACCEPTED;RSVP=TRUE;CN=Administr
 ator:https://bowesandbounds.org/profile/Administrator
END:VEVENT
END:VCALENDAR
