BEGIN:VCALENDAR
PRODID:NingEventWidget-v1
VERSION:2.0
METHOD:PUBLISH
BEGIN:VTIMEZONE
TZID:Europe/London
X-LIC-LOCATION:Europe/London
BEGIN:DAYLIGHT
TZOFFSETFROM:+0000
TZOFFSETTO:+0100
TZNAME:BST
DTSTART:19700329T010000
RRULE:FREQ=YEARLY;BYMONTH=3;BYDAY=-1SU
END:DAYLIGHT
BEGIN:STANDARD
TZOFFSETFROM:+0100
TZOFFSETTO:+0000
TZNAME:GMT
DTSTART:19701025T020000
RRULE:FREQ=YEARLY;BYMONTH=10;BYDAY=-1SU
END:STANDARD
END:VTIMEZONE
BEGIN:VEVENT
UID:6278630:Event:57518
DTSTAMP:20260420T183701Z
SUMMARY:Sustainable Bowes Park - Social Evening
DESCRIPTION:Following our food growing event last month, there will be
  a Sustainable Bowes Park social evening at The Step Cafe, Gallery & B
 ar,  101 Myddleton Road,  Bowes Park N22 8NE, on Tuesday, 30th April, 
 from 7.30pm.\n  This will be a social evening - come for a chat with 
 other Sustainable Bowes Park people over a cup of coffee or glass of w
 ine - and please bring a friend along.\nBring along any ideas you have
  for future activities to make Bowes Park more sustainable!\nMore Info
 rmation\nContact sustainablebowespark@gmail.com\n\nFor more informatio
 n visit https://bowesandbounds.org/events/sustainable-bowes-park-socia
 l-evening-3
DTSTART;TZID=Europe/London:20130430T193000
DTEND;TZID=Europe/London:20130430T213000
CATEGORIES:social
LOCATION:The Step
WEBSITE:http://maps.google.com/maps?q=101+Myddleton+Road+N22+8NE&hl=en
 &ll=51.606477,-0.118468&spn=0.008915,0.016994&sll=51.60632,-0.11791&ss
 pn=0.008915,0.016994&hnear=101+Myddleton+Rd,+United+Kingdom&t=m&z=16
URL:http://maps.google.com/maps?q=101+Myddleton+Road+N22+8NE&hl=en&ll=
 51.606477,-0.118468&spn=0.008915,0.016994&sll=51.60632,-0.11791&sspn=0
 .008915,0.016994&hnear=101+Myddleton+Rd,+United+Kingdom&t=m&z=16
CONTACT:
ORGANIZER:Administrator
ATTACH;FMTTYPE="image/jpeg":http://storage.ning.com/topology/rest/1.0/
 file/get/2063512938?profile=original
ATTENDEE;ROLE=REQ-PARTICIPANT;PARTSTAT=ACCEPTED;RSVP=TRUE;CN="Richard 
 McKeever":https://bowesandbounds.org/profile/3hwxkqhdde8gc
END:VEVENT
END:VCALENDAR
