BEGIN:VCALENDAR
PRODID:NingEventWidget-v1
VERSION:2.0
METHOD:PUBLISH
BEGIN:VTIMEZONE
TZID:Europe/London
X-LIC-LOCATION:Europe/London
BEGIN:DAYLIGHT
TZOFFSETFROM:+0000
TZOFFSETTO:+0100
TZNAME:BST
DTSTART:19700329T010000
RRULE:FREQ=YEARLY;BYMONTH=3;BYDAY=-1SU
END:DAYLIGHT
BEGIN:STANDARD
TZOFFSETFROM:+0100
TZOFFSETTO:+0000
TZNAME:GMT
DTSTART:19701025T020000
RRULE:FREQ=YEARLY;BYMONTH=10;BYDAY=-1SU
END:STANDARD
END:VTIMEZONE
BEGIN:VEVENT
UID:6278630:Event:36198
DTSTAMP:20260420T125548Z
SUMMARY:Sustainable Bowes Park - Social Evening
DESCRIPTION:Following our energy-saving advice evening in January and 
 screening of 'The Age of Stupid' in February, there will be a Sustaina
 ble Bowes Park social evening at The Step Cafe, Gallery & Bar, 101 Myd
 dleton Road, N22 8NE, on Tuesday, 27th March, 7.30-9.30pm.\n  Come a
 long for a chat over a cup of coffee or glass of wine - and please br
 ing a friend along.\nAlso.. we're looking for more people to help ste
 er the group.  Would you like to present a film night, run a meeting 
 on a sustainability topic, help with publicity, or do you have ideas f
 or practical environmental action in Bowes Park? If so please contact 
 sustainablebowespark@gmail.com\n\nFor more information visit https://b
 owesandbounds.org/events/sustainable-bowes-park-social-evening
DTSTART;TZID=Europe/London:20120327T193000
DTEND;TZID=Europe/London:20120327T213000
CATEGORIES:social
LOCATION:The Step
WEBSITE:http://maps.google.com/maps?q=101+Myddleton+Road+N22+8NE&hl=en
 &ll=51.606477,-0.118468&spn=0.008915,0.016994&sll=51.60632,-0.11791&ss
 pn=0.008915,0.016994&hnear=101+Myddleton+Rd,+United+Kingdom&t=m&z=16
URL:http://maps.google.com/maps?q=101+Myddleton+Road+N22+8NE&hl=en&ll=
 51.606477,-0.118468&spn=0.008915,0.016994&sll=51.60632,-0.11791&sspn=0
 .008915,0.016994&hnear=101+Myddleton+Rd,+United+Kingdom&t=m&z=16
CONTACT:
ORGANIZER;CN=Administrator:https://bowesandbounds.org/profile/Administ
 rator
ATTACH;FMTTYPE="image/jpeg":http://storage.ning.com/topology/rest/1.0/
 file/get/2063512938?profile=original
ATTENDEE;ROLE=REQ-PARTICIPANT;PARTSTAT=ACCEPTED;RSVP=TRUE;CN="Trish Dy
 son":https://bowesandbounds.org/profile/TrishDyson
ATTENDEE;ROLE=REQ-PARTICIPANT;PARTSTAT=ACCEPTED;RSVP=TRUE;CN="Mat Rich
 es":https://bowesandbounds.org/profile/MatRiches
ATTENDEE;ROLE=REQ-PARTICIPANT;PARTSTAT=ACCEPTED;RSVP=TRUE;CN="Richard 
 McKeever":https://bowesandbounds.org/profile/3hwxkqhdde8gc
ATTENDEE;ROLE=REQ-PARTICIPANT;PARTSTAT=ACCEPTED;RSVP=TRUE;CN=Administr
 ator:https://bowesandbounds.org/profile/Administrator
ATTENDEE;ROLE=REQ-PARTICIPANT;PARTSTAT=TENTATIVE;RSVP=TRUE;CN="Vickie 
 Schellert":https://bowesandbounds.org/profile/VickieSchellert
END:VEVENT
END:VCALENDAR
