BEGIN:VCALENDAR
PRODID:NingEventWidget-v1
VERSION:2.0
METHOD:PUBLISH
BEGIN:VTIMEZONE
TZID:Europe/London
X-LIC-LOCATION:Europe/London
BEGIN:DAYLIGHT
TZOFFSETFROM:+0000
TZOFFSETTO:+0100
TZNAME:BST
DTSTART:19700329T010000
RRULE:FREQ=YEARLY;BYMONTH=3;BYDAY=-1SU
END:DAYLIGHT
BEGIN:STANDARD
TZOFFSETFROM:+0100
TZOFFSETTO:+0000
TZNAME:GMT
DTSTART:19701025T020000
RRULE:FREQ=YEARLY;BYMONTH=10;BYDAY=-1SU
END:STANDARD
END:VTIMEZONE
BEGIN:VEVENT
UID:6278630:Event:249368
DTSTAMP:20260422T155012Z
SUMMARY:Sustainable Fashion speaker meeting
DESCRIPTION:Muswell Hill Sustainability Group \npresents\n\n'SUSTAINA
 BLE FASHION’\nA FREE evening of THREE expert talks, followed by Q&A 
 and refreshments\nwelcoming \n\nAli McAleavy (founder of ZIG+STAR, su
 stainable kids’ footwear)\nTim Browne (Ministry of Denim, sustainabl
 e denim consultant)\nJose Baladron (Traid, second-hand clothing charit
 y retailer)\n\nThe fast fashion industry is the second biggest consume
 r of water and is responsible for about 10% of global carbon emissions
  - more than all international flights and shipping combined; with 85%
  of all textile then ending up in landfill.\n \nJoin us for a fascina
 ting evening of expert talks from three Sustainable Fashion trailblaze
 rs, each innovating, changing consumer behaviours, reducing waste and 
 emissions and supporting improved farming practices and working condit
 ions to change the future of fashion in very different ways. \n\n\nFo
 r more information and to book your free tickets, go to WeGotTickets (
 https://wegottickets.com/event/646949)\n\nFor more information visit h
 ttps://bowesandbounds.org/events/sustainable-fashion-speaker-meeting
DTSTART;TZID=Europe/London:20250225T193000
DTEND;TZID=Europe/London:20250225T210000
CATEGORIES:free, evening, of, 3, talks, "q&amp", a, and, refreshments,
  on, sustainable, fashion
LOCATION:Muswell Hill Methodist Church
WEBSITE:https://wegottickets.com/event/646949
URL:https://wegottickets.com/event/646949
CONTACT:07968963456
ORGANIZER;CN="Lisa Jones":https://bowesandbounds.org/profile/LisaJones
 508
ATTACH;FMTTYPE="image/jpeg":https://storage.ning.com/topology/rest/1.0
 /file/get/13452933697?profile=original
ATTENDEE;ROLE=REQ-PARTICIPANT;PARTSTAT=ACCEPTED;RSVP=TRUE;CN="Lisa Jon
 es":https://bowesandbounds.org/profile/LisaJones508
END:VEVENT
END:VCALENDAR
