BEGIN:VCALENDAR
PRODID:NingEventWidget-v1
VERSION:2.0
METHOD:PUBLISH
BEGIN:VTIMEZONE
TZID:Europe/London
X-LIC-LOCATION:Europe/London
BEGIN:DAYLIGHT
TZOFFSETFROM:+0000
TZOFFSETTO:+0100
TZNAME:BST
DTSTART:19700329T010000
RRULE:FREQ=YEARLY;BYMONTH=3;BYDAY=-1SU
END:DAYLIGHT
BEGIN:STANDARD
TZOFFSETFROM:+0100
TZOFFSETTO:+0000
TZNAME:GMT
DTSTART:19701025T020000
RRULE:FREQ=YEARLY;BYMONTH=10;BYDAY=-1SU
END:STANDARD
END:VTIMEZONE
BEGIN:VEVENT
UID:6278630:Event:49160
DTSTAMP:20260422T203800Z
SUMMARY:SYRIA – WHOSE RESPONSIBILITY?
DESCRIPTION:Andy Love MP will be speaking at a meeting organised by th
 e Barnet and Enfield United Nations Associationin partnership with the
  Edmonton Baptist Church on the crisis in Syria. Andy is Edmonton’s 
 Member of Parliament and Chair of the Council for the Advancement of A
 rab-British Understanding.\nAlso speaking at the meeting will be James
  Denselow the Media and Campaigns Officer at Crisis Action\nAs Syria d
 escends into anarchy the international community watches paralysed. Up
  to thirty thousand have already died. There is a threat of wider war 
 in the Middle East, from which neighbouring countries could not escape
 . Turkish, Russian, Jordanian, Lebanese, Kurdish, Israeli, Saudi, Iran
 ian and Iraqi interests are all engaged, while the UN Security Council
  cannot act. The destiny of the Arab Spring is at stake and for some t
 he UN itself is on trial. There has been shelling across the Turkish-S
 yrian border, and tens of thousands have become refugees.\n If you are
  interested in finding out more about the Barnets & Enfield United Nat
 ions Association then please contact Bill Linton the Secretary here ..
 ...\n\nFor more information visit https://bowesandbounds.org/events/sy
 ria-whose-responsibility
DTSTART;TZID=Europe/London:20121108T200000
DTEND;TZID=Europe/London:20121108T220000
CATEGORIES:public, meeting
LOCATION:The Sanctuary, Edmonton Baptist Church
WEBSITE:http://www.meetup.com/Enfield-Network21/events/87791302/
URL:http://www.meetup.com/Enfield-Network21/events/87791302/
CONTACT:
ORGANIZER;CN="Francis Sealey":https://bowesandbounds.org/profile/Franc
 isSealey
ATTACH;FMTTYPE="image/jpeg":
ATTENDEE;ROLE=REQ-PARTICIPANT;PARTSTAT=ACCEPTED;RSVP=TRUE;CN="Francis 
 Sealey":https://bowesandbounds.org/profile/FrancisSealey
END:VEVENT
END:VCALENDAR
