BEGIN:VCALENDAR
PRODID:NingEventWidget-v1
VERSION:2.0
METHOD:PUBLISH
BEGIN:VTIMEZONE
TZID:Europe/London
X-LIC-LOCATION:Europe/London
BEGIN:DAYLIGHT
TZOFFSETFROM:+0000
TZOFFSETTO:+0100
TZNAME:BST
DTSTART:19700329T010000
RRULE:FREQ=YEARLY;BYMONTH=3;BYDAY=-1SU
END:DAYLIGHT
BEGIN:STANDARD
TZOFFSETFROM:+0100
TZOFFSETTO:+0000
TZNAME:GMT
DTSTART:19701025T020000
RRULE:FREQ=YEARLY;BYMONTH=10;BYDAY=-1SU
END:STANDARD
END:VTIMEZONE
BEGIN:VEVENT
UID:6278630:Event:104563
DTSTAMP:20260424T074314Z
SUMMARY:TAB CENTRE PLUS
DESCRIPTION:Â Â Â Â Â Â Â Â  craft%20workshop%20family%20craft.docx\nÂ
  Â Â Â Â Â Â Â Â Â Â Â Â Â Â Â Â Â Â Â Â Â Â Â Â  FAMILY CRAFT\n\nFor 
 more information visit https://bowesandbounds.org/events/tab-centre-pl
 us-12
DTSTART;TZID=Europe/London:20151205T130000
DTEND;TZID=Europe/London:20151205T160000
CATEGORIES:family, craft
LOCATION:TAB CENTRE PLUS
WEBSITE:http://www.trinityatbowes.co.uk
URL:http://www.trinityatbowes.co.uk
CONTACT:0208 888 2797
ORGANIZER;CN="ELAINE WALTERS":https://bowesandbounds.org/profile/ELAIN
 EWALTERS
ATTACH;FMTTYPE="image/jpeg":
ATTENDEE;ROLE=REQ-PARTICIPANT;PARTSTAT=ACCEPTED;RSVP=TRUE;CN="ELAINE W
 ALTERS":https://bowesandbounds.org/profile/ELAINEWALTERS
END:VEVENT
END:VCALENDAR
