BEGIN:VCALENDAR
PRODID:NingEventWidget-v1
VERSION:2.0
METHOD:PUBLISH
BEGIN:VTIMEZONE
TZID:Europe/London
X-LIC-LOCATION:Europe/London
BEGIN:DAYLIGHT
TZOFFSETFROM:+0000
TZOFFSETTO:+0100
TZNAME:BST
DTSTART:19700329T010000
RRULE:FREQ=YEARLY;BYMONTH=3;BYDAY=-1SU
END:DAYLIGHT
BEGIN:STANDARD
TZOFFSETFROM:+0100
TZOFFSETTO:+0000
TZNAME:GMT
DTSTART:19701025T020000
RRULE:FREQ=YEARLY;BYMONTH=10;BYDAY=-1SU
END:STANDARD
END:VTIMEZONE
BEGIN:VEVENT
UID:6278630:Event:101441
DTSTAMP:20260425T222707Z
SUMMARY:TAB Centre Plus: Parent/Carer Baby Group
DESCRIPTION:Â New Parent/Carer Baby GroupCome along meet other parents
  and babies, share experiences and have FUN with your babies :)\nÂ Â Â
  Â Â Â Â Â Â Â Â Â Â Â Â Â Â Â  Every Wednesday\nÂ Â Â Â Â Â Â Â Â  BA
 BY%20Group%20LEAFLET.docx\n\n\nFor more information visit https://bowe
 sandbounds.org/events/tab-centre-plus-8
DTSTART;TZID=Europe/London:20150923T100000
DTEND;TZID=Europe/London:20150923T120000
CATEGORIES:"parent/carer", baby, group
LOCATION:TAB Centre Plus
WEBSITE:http://www.trinityatbowes.co.uk
URL:http://www.trinityatbowes.co.uk
CONTACT:0208 888 2797
ORGANIZER;CN="ELAINE WALTERS":https://bowesandbounds.org/profile/ELAIN
 EWALTERS
ATTACH;FMTTYPE="image/jpeg":http://storage.ning.com/topology/rest/1.0/
 file/get/2287235531?profile=original
ATTENDEE;ROLE=REQ-PARTICIPANT;PARTSTAT=ACCEPTED;RSVP=TRUE;CN="ELAINE W
 ALTERS":https://bowesandbounds.org/profile/ELAINEWALTERS
END:VEVENT
END:VCALENDAR
