BEGIN:VCALENDAR
PRODID:NingEventWidget-v1
VERSION:2.0
METHOD:PUBLISH
BEGIN:VTIMEZONE
TZID:Europe/London
X-LIC-LOCATION:Europe/London
BEGIN:DAYLIGHT
TZOFFSETFROM:+0000
TZOFFSETTO:+0100
TZNAME:BST
DTSTART:19700329T010000
RRULE:FREQ=YEARLY;BYMONTH=3;BYDAY=-1SU
END:DAYLIGHT
BEGIN:STANDARD
TZOFFSETFROM:+0100
TZOFFSETTO:+0000
TZNAME:GMT
DTSTART:19701025T020000
RRULE:FREQ=YEARLY;BYMONTH=10;BYDAY=-1SU
END:STANDARD
END:VTIMEZONE
BEGIN:VEVENT
UID:6278630:Event:95187
DTSTAMP:20260422T044916Z
SUMMARY:Taking Liberteas: The Vintage  Fair & Grand Tea Party at the C
 astle
DESCRIPTION:Over 30 fantastic and unique stalls selling wonderful vint
 age clothes, beautiful accessories, jewellery and handbags, retro chin
 a, kitchenalia, collectables, toys, prints and ephemera, books, stunni
 ng eye-wear and glasses, furniture, and vintage-inspired handmade gift
 s, cards, jams, chutneys and cakes.\nOur special fair also salutes the
  800th Anniversary of the Magna Carta – and we are commemorating lik
 e others around the country on that day with a grand tea party. Outsid
 e on the lawn, tea will be served - and we are happy to announce that 
 Film London who will be bringing back their Kino Van – a mobile cine
 ma – for our entertainment, showing vintage films, news clips and ho
 me-movies.\nWe will also have a competition to guess the weight of the
  cake and the cheese; and activities for adults and children to create
  a slogan on a tea cup. Lots of things to see, do and buy.\nEnjoy our 
 Vintage Cafe with sandwiches, tea and cake all day.\n Entrance fee £1
 .50. Accompanied kids go free.\nPlease join us and make it a special e
 vent.\nTell your friends and connect to our Facebook page here - pleas
 e ‘Like’ it, share it and help promote it:\nhttps://www.facebook.c
 om/pages/Friends-of-Bruce-Castle-Museum-and-Park\n \n\nFor more infor
 mation visit https://bowesandbounds.org/events/taking-liberteas-the-vi
 ntage-fair-grand-tea-party-at-the-castle
DTSTART;TZID=Europe/London:20150614T110000
DTEND;TZID=Europe/London:20150614T163000
CATEGORIES:"vintage fair"
LOCATION:Bruce Castle Museum
WEBSITE:http://www.haringey.gov.uk/brucecastlemuseum
URL:http://www.haringey.gov.uk/brucecastlemuseum
CONTACT:020 8808 8772
ORGANIZER:Deborah Hedgecock
ATTACH;FMTTYPE="image/jpeg":http://storage.ning.com/topology/rest/1.0/
 file/get/2287287073?profile=original
ATTENDEE;ROLE=REQ-PARTICIPANT;PARTSTAT=ACCEPTED;RSVP=TRUE;CN="Mark Wel
 ls":https://bowesandbounds.org/profile/MarkWells
END:VEVENT
END:VCALENDAR
