BEGIN:VCALENDAR
PRODID:NingEventWidget-v1
VERSION:2.0
METHOD:PUBLISH
BEGIN:VTIMEZONE
TZID:Europe/London
X-LIC-LOCATION:Europe/London
BEGIN:DAYLIGHT
TZOFFSETFROM:+0000
TZOFFSETTO:+0100
TZNAME:BST
DTSTART:19700329T010000
RRULE:FREQ=YEARLY;BYMONTH=3;BYDAY=-1SU
END:DAYLIGHT
BEGIN:STANDARD
TZOFFSETFROM:+0100
TZOFFSETTO:+0000
TZNAME:GMT
DTSTART:19701025T020000
RRULE:FREQ=YEARLY;BYMONTH=10;BYDAY=-1SU
END:STANDARD
END:VTIMEZONE
BEGIN:VEVENT
UID:6278630:Event:94794
DTSTAMP:20260420T080153Z
SUMMARY:Taking Liberteas: Vintage Fair & Grand Tea Party at the Castle
DESCRIPTION:Take tea, reflect on the liberties we enjoy today on the o
 ccasion of the 800th anniversary of the Magna Carta and have fun with 
 friends doing craft activities, listening to entertainment and taking 
 part in competitions such as weigh the cake. and cheese .. as well as 
 visiting our vintage fair of over 30 fabulous stalls selling vintage c
 lothes, accessories, ephemera and furniture, and vintage-inspired hand
 made gifts, jam and chutneys. Art2View will also be displaying their a
 rt for sale in the Tudor Tower. (Entrance:£1.50 to the vintage stalls
 )\n\nFor more information visit https://bowesandbounds.org/events/taki
 ng-liberteas-vintage-fair-grand-tea-party-at-the-castle
DTSTART;TZID=Europe/London:20150614T110000
DTEND;TZID=Europe/London:20150614T163000
CATEGORIES:vintage, fair, and, grand, tea, party
LOCATION:Bruce Castle Museum
WEBSITE:http://www.haringey.gov.uk/brucecastlemuseum
URL:http://www.haringey.gov.uk/brucecastlemuseum
CONTACT:020 8808 8772
ORGANIZER;CN="Deborah Hedgecock":https://bowesandbounds.org/profile/De
 borahHedgecock
ATTACH;FMTTYPE="image/jpeg":http://storage.ning.com/topology/rest/1.0/
 file/get/2287285022?profile=original
ATTENDEE;ROLE=REQ-PARTICIPANT;PARTSTAT=ACCEPTED;RSVP=TRUE;CN="Deborah 
 Hedgecock":https://bowesandbounds.org/profile/DeborahHedgecock
END:VEVENT
END:VCALENDAR
