BEGIN:VCALENDAR
PRODID:NingEventWidget-v1
VERSION:2.0
METHOD:PUBLISH
BEGIN:VTIMEZONE
TZID:Europe/London
X-LIC-LOCATION:Europe/London
BEGIN:DAYLIGHT
TZOFFSETFROM:+0000
TZOFFSETTO:+0100
TZNAME:BST
DTSTART:19700329T010000
RRULE:FREQ=YEARLY;BYMONTH=3;BYDAY=-1SU
END:DAYLIGHT
BEGIN:STANDARD
TZOFFSETFROM:+0100
TZOFFSETTO:+0000
TZNAME:GMT
DTSTART:19701025T020000
RRULE:FREQ=YEARLY;BYMONTH=10;BYDAY=-1SU
END:STANDARD
END:VTIMEZONE
BEGIN:VEVENT
UID:6278630:Event:239615
DTSTAMP:20260419T135124Z
SUMMARY:Talk: 'A spontaneous, sincere Pre-Raphaelite' - The life and w
 ork of artist Marie Spartali Stillman, and her early years in Tottenha
 m'
DESCRIPTION:Join us for a beautifully illustrated talk by Dr Jan Marsh
 , curator of the recent exhibition at the National Portrait Gallery of
  the Pre-Raphaelite Sisters, about the artist Marie Spartali Stillman.
  Find out about her connections with Tottenham and Hornsey and discove
 r more about the local Greek community in the 19th century.\nDr Jan Ma
 rsh is a long-standing expert on the Pre-Raphaelite movement with book
 s and exhibitions on Elizabeth Siddal, Dante Gabriel Rossetti, Christi
 na Rossetti and May Morris\nThis is a hybrid event and can be attended
  either in person or remotely online. Places must be booked.\nPlease
  email museum.services@haringey.gov.uk to book your place in person
  (spaces are limited). Doors opn 7pm.\nTo book your place to hear the
  talk remotely, please follow the link to Eventbrite to register for
  your place online. The Zoom link will be sent to you on the day of th
 e talk.\n\nFor more information visit https://bowesandbounds.org/event
 s/talk-a-spontaneous-sincere-pre-raphaelite-the-life-and-work-of
DTSTART;TZID=Europe/London:20220323T193000
DTEND;TZID=Europe/London:20220323T210000
CATEGORIES:whm2022, "womens history", "tottenham heritage", "womens ar
 t", "evening talk", "haringey history", "bruce castle museum", "pre-ra
 phaelite artist", "woman artist"
LOCATION:Bruce Castle Museum
WEBSITE:http://www.brucecastle.org
URL:http://www.brucecastle.org
CONTACT:020 8489 4250
ORGANIZER;CN="Deborah Hedgecock":https://bowesandbounds.org/profile/De
 borahHedgecock
ATTACH;FMTTYPE="image/jpeg":https://storage.ning.com/topology/rest/1.0
 /file/get/10220329295?profile=original
ATTENDEE;ROLE=REQ-PARTICIPANT;PARTSTAT=ACCEPTED;RSVP=TRUE;CN="Deborah 
 Hedgecock":https://bowesandbounds.org/profile/DeborahHedgecock
END:VEVENT
END:VCALENDAR
