BEGIN:VCALENDAR
PRODID:NingEventWidget-v1
VERSION:2.0
METHOD:PUBLISH
BEGIN:VTIMEZONE
TZID:Europe/London
X-LIC-LOCATION:Europe/London
BEGIN:DAYLIGHT
TZOFFSETFROM:+0000
TZOFFSETTO:+0100
TZNAME:BST
DTSTART:19700329T010000
RRULE:FREQ=YEARLY;BYMONTH=3;BYDAY=-1SU
END:DAYLIGHT
BEGIN:STANDARD
TZOFFSETFROM:+0100
TZOFFSETTO:+0000
TZNAME:GMT
DTSTART:19701025T020000
RRULE:FREQ=YEARLY;BYMONTH=10;BYDAY=-1SU
END:STANDARD
END:VTIMEZONE
BEGIN:VEVENT
UID:6278630:Event:121934
DTSTAMP:20260425T020241Z
SUMMARY:Talk: An Introduction to Bats
DESCRIPTION:Friends of Alexandra Park presents:\nTalk: An Introduction
  to Bats\nWednesday March 22 7.30 for 8\nBats are fascinating animals 
 – the only true flying mammal. There are over 1,300 species of bat i
 n the world, and more are still being discovered. Bats account for mor
 e than a quarter of mammal species in the UK and around 20% of all mam
 mal species worldwide. Lisa Worledge of the Bat Conservation Trust wil
 l introduce you to the incredible world of these nocturnal mammals, fr
 om their ancient lineage to their annual cycle.... We’ll look at jus
 t why they are such important animals and the work that is underway to
  conserve the true stars of the night!\nJoin us for refreshments from 
 7:30pm with the talk starting at 8pm prompt.\nSpace is limited, so ple
 ase email allyparkn10@gmail.com to book places and we will reply with 
 the venue.\nwww.friendsofalexandrapark.org\nLink to all Events coming 
 up in the Park\n\n\nFor more information visit https://bowesandbounds.
 org/events/talk-an-introduction-to-bats
DTSTART;TZID=Europe/London:20170322T193000
DTEND;TZID=Europe/London:20170322T210000
CATEGORIES:talk, nature
LOCATION:Alexandra Park
WEBSITE:http://www.alexandrapark.org
URL:http://www.alexandrapark.org
CONTACT:
ORGANIZER;CN="Stephen Middleton":https://bowesandbounds.org/profile/St
 ephenMiddleton
ATTACH;FMTTYPE="image/jpeg":http://storage.ning.com/topology/rest/1.0/
 file/get/2287318668?profile=original
ATTENDEE;ROLE=REQ-PARTICIPANT;PARTSTAT=ACCEPTED;RSVP=TRUE;CN="Stephen 
 Middleton":https://bowesandbounds.org/profile/StephenMiddleton
END:VEVENT
END:VCALENDAR
