BEGIN:VCALENDAR
PRODID:NingEventWidget-v1
VERSION:2.0
METHOD:PUBLISH
BEGIN:VTIMEZONE
TZID:Europe/London
X-LIC-LOCATION:Europe/London
BEGIN:DAYLIGHT
TZOFFSETFROM:+0000
TZOFFSETTO:+0100
TZNAME:BST
DTSTART:19700329T010000
RRULE:FREQ=YEARLY;BYMONTH=3;BYDAY=-1SU
END:DAYLIGHT
BEGIN:STANDARD
TZOFFSETFROM:+0100
TZOFFSETTO:+0000
TZNAME:GMT
DTSTART:19701025T020000
RRULE:FREQ=YEARLY;BYMONTH=10;BYDAY=-1SU
END:STANDARD
END:VTIMEZONE
BEGIN:VEVENT
UID:6278630:Event:54943
DTSTAMP:20260419T141023Z
SUMMARY:Talk: The Real World of Costume Design
DESCRIPTION:Queens, Urchins and Zombies: The Real World of Costume Des
 ign\nQueen Victoria’s coronation. A rodeo in Texas. The barricade of
  the Paris Uprising of 1832. A post-apocalyptic street in Cardiff. Cos
 tume designer Sheara Abrahams has seen quite a lot over her career so 
 far.\nBut what exactly does a costume designer do and what is involved
  in making a film come to life? And is the film industry quite as glam
 orous as one might think?\nSheara Abrahams is a costume designer and 
 illustrator and has worked on a wide variety of film & theatre project
 s. In her first talk at The Step she will give us an insight into the 
 industry with unique behind-the-scenes stories and answers to our burn
 ing questions!\nWednesday 13th March, 7.30pm Spaces are limited so boo
 k early to avoid disappointment! £5 per ticket.\nBook online by CLICK
 ING HERE or pop into The Step or give us a call on 020 3302 2412.\nThe
  talk will last an hour with the opportunity to ask questions after th
 e talk.\n\nFor more information visit https://bowesandbounds.org/event
 s/talk-the-real-world-of-costume-design
DTSTART;TZID=Europe/London:20130313T193000
DTEND;TZID=Europe/London:20130313T210000
CATEGORIES:talk, lecture, workshop, film, design, costume
LOCATION:The Step
WEBSITE:http://www.thestep.co.uk
URL:http://www.thestep.co.uk
CONTACT:020 3302 2412
ORGANIZER;CN="Nell Riches":https://bowesandbounds.org/profile/NellRich
 es
ATTACH;FMTTYPE="image/jpeg":http://storage.ning.com/topology/rest/1.0/
 file/get/2287244120?profile=original
ATTENDEE;ROLE=REQ-PARTICIPANT;PARTSTAT=ACCEPTED;RSVP=TRUE;CN="Nell Ric
 hes":https://bowesandbounds.org/profile/NellRiches
END:VEVENT
END:VCALENDAR
