BEGIN:VCALENDAR
PRODID:NingEventWidget-v1
VERSION:2.0
METHOD:PUBLISH
BEGIN:VTIMEZONE
TZID:Europe/London
X-LIC-LOCATION:Europe/London
BEGIN:DAYLIGHT
TZOFFSETFROM:+0000
TZOFFSETTO:+0100
TZNAME:BST
DTSTART:19700329T010000
RRULE:FREQ=YEARLY;BYMONTH=3;BYDAY=-1SU
END:DAYLIGHT
BEGIN:STANDARD
TZOFFSETFROM:+0100
TZOFFSETTO:+0000
TZNAME:GMT
DTSTART:19701025T020000
RRULE:FREQ=YEARLY;BYMONTH=10;BYDAY=-1SU
END:STANDARD
END:VTIMEZONE
BEGIN:VEVENT
UID:6278630:Event:139572
DTSTAMP:20260423T071128Z
SUMMARY:Talkies Community Cinema - Bounds Green
DESCRIPTION:We are showing Stan and Ollie - brilliant performances and
  recreations of the story of Laurel and Hardy who had dominated  the 
 world of comedy from the 20s to the 1940s. Steve Coogan and John C Rei
 lly take us through the later years as the duo carry out their swan so
 ng of a gruelling theatre tour in post war Britain. \n\nFor more info
 rmation visit https://bowesandbounds.org/events/talkies-community-cine
 ma-bounds-green
DTSTART;TZID=Europe/London:20200124T193000
DTEND;TZID=Europe/London:20200124T220000
CATEGORIES:film, screening
LOCATION:Bowls and Tennis Club
WEBSITE:
URL:
CONTACT:
ORGANIZER;CN="Judy McGough":https://bowesandbounds.org/profile/JudyMcG
 ough
ATTACH;FMTTYPE="image/jpeg":
ATTENDEE;ROLE=REQ-PARTICIPANT;PARTSTAT=ACCEPTED;RSVP=TRUE;CN="Judy McG
 ough":https://bowesandbounds.org/profile/JudyMcGough
END:VEVENT
END:VCALENDAR
