BEGIN:VCALENDAR
PRODID:NingEventWidget-v1
VERSION:2.0
METHOD:PUBLISH
BEGIN:VTIMEZONE
TZID:Europe/London
X-LIC-LOCATION:Europe/London
BEGIN:DAYLIGHT
TZOFFSETFROM:+0000
TZOFFSETTO:+0100
TZNAME:BST
DTSTART:19700329T010000
RRULE:FREQ=YEARLY;BYMONTH=3;BYDAY=-1SU
END:DAYLIGHT
BEGIN:STANDARD
TZOFFSETFROM:+0100
TZOFFSETTO:+0000
TZNAME:GMT
DTSTART:19701025T020000
RRULE:FREQ=YEARLY;BYMONTH=10;BYDAY=-1SU
END:STANDARD
END:VTIMEZONE
BEGIN:VEVENT
UID:6278630:Event:104272
DTSTAMP:20260424T022500Z
SUMMARY:Talkies Community Cinema: Christmas Film Quiz
DESCRIPTION:Tickets from La Coppia at £5each\nOr book online:£6 each
  Table of 6-8 for £30\n \n\nFor more information visit https://bowes
 andbounds.org/events/talkies-community-cinema-christmas-film-quiz
DTSTART;TZID=Europe/London:20151211T190000
DTEND;TZID=Europe/London:20151211T223000
CATEGORIES:christmas, quiz, cinema
LOCATION:Boubds Green Bowls and Tennis Club
WEBSITE:http://talkies.org.uk/home
URL:http://talkies.org.uk/home
CONTACT:
ORGANIZER;CN="Richard McKeever":https://bowesandbounds.org/profile/3hw
 xkqhdde8gc
ATTACH;FMTTYPE="image/jpeg":http://storage.ning.com/topology/rest/1.0/
 file/get/2287300681?profile=original
ATTENDEE;ROLE=REQ-PARTICIPANT;PARTSTAT=ACCEPTED;RSVP=TRUE;CN="Richard 
 McKeever":https://bowesandbounds.org/profile/3hwxkqhdde8gc
END:VEVENT
END:VCALENDAR
