BEGIN:VCALENDAR
PRODID:NingEventWidget-v1
VERSION:2.0
METHOD:PUBLISH
BEGIN:VTIMEZONE
TZID:Europe/London
X-LIC-LOCATION:Europe/London
BEGIN:DAYLIGHT
TZOFFSETFROM:+0000
TZOFFSETTO:+0100
TZNAME:BST
DTSTART:19700329T010000
RRULE:FREQ=YEARLY;BYMONTH=3;BYDAY=-1SU
END:DAYLIGHT
BEGIN:STANDARD
TZOFFSETFROM:+0100
TZOFFSETTO:+0000
TZNAME:GMT
DTSTART:19701025T020000
RRULE:FREQ=YEARLY;BYMONTH=10;BYDAY=-1SU
END:STANDARD
END:VTIMEZONE
BEGIN:VEVENT
UID:6278630:Event:57680
DTSTAMP:20260425T133707Z
SUMMARY:Talkies Community Cinema - Chungking Express
DESCRIPTION:Film Screening, Chungking Express\n| Hong Kong | 1994 | 10
 2 min | Dir: Wong Kar-Wei | Cert 15\nTalkies Community Cinema ends its
  First Thursday season of films at The Dugdale Centre with a rarely sc
 reened Chinese film  Chungking Express.\nTwo stories, two lovelorn co
 ps, two objects of desire: one a big-time heroin dealer in deep troubl
 e with her boss after the cargo disappears, the other a seriously flak
 y take-out waitress who inadvertently gets hold of the keys to her adm
 irer's apartment, all shot in a breathless kaleidoscope of color and h
 and-held camera work to create a mesmerizing portrait of Hong Kong in 
 the 1990s. Tickets £5 More information  Talkies Community Cinema web
 site  and Facebook Page\n\n\nFor more information visit https://bowes
 andbounds.org/events/talkies-community-cinema-chungking-express
DTSTART;TZID=Europe/London:20130801T193000
DTEND;TZID=Europe/London:20130801T220000
CATEGORIES:cinema, talkies
LOCATION:Dugdale Centre
WEBSITE:https://maps.google.co.uk/maps?q=Dugdale+Centre&hl=en&ll=51.65
 8607,-0.080509&spn=0.029444,0.077162&cid=330561093370934429&gl=GB&t=m&
 z=14&iwloc=A
URL:https://maps.google.co.uk/maps?q=Dugdale+Centre&hl=en&ll=51.658607
 ,-0.080509&spn=0.029444,0.077162&cid=330561093370934429&gl=GB&t=m&z=14
 &iwloc=A
CONTACT:
ORGANIZER;CN=Administrator:https://bowesandbounds.org/profile/Administ
 rator
ATTACH;FMTTYPE="image/jpeg":http://storage.ning.com/topology/rest/1.0/
 file/get/2287247460?profile=original
ATTENDEE;ROLE=REQ-PARTICIPANT;PARTSTAT=ACCEPTED;RSVP=TRUE;CN=Administr
 ator:https://bowesandbounds.org/profile/Administrator
END:VEVENT
END:VCALENDAR
