BEGIN:VCALENDAR
PRODID:NingEventWidget-v1
VERSION:2.0
METHOD:PUBLISH
BEGIN:VTIMEZONE
TZID:Europe/London
X-LIC-LOCATION:Europe/London
BEGIN:DAYLIGHT
TZOFFSETFROM:+0000
TZOFFSETTO:+0100
TZNAME:BST
DTSTART:19700329T010000
RRULE:FREQ=YEARLY;BYMONTH=3;BYDAY=-1SU
END:DAYLIGHT
BEGIN:STANDARD
TZOFFSETFROM:+0100
TZOFFSETTO:+0000
TZNAME:GMT
DTSTART:19701025T020000
RRULE:FREQ=YEARLY;BYMONTH=10;BYDAY=-1SU
END:STANDARD
END:VTIMEZONE
BEGIN:VEVENT
UID:6278630:Event:89380
DTSTAMP:20260426T013038Z
SUMMARY:Talkies Community Cinema: LILTING
DESCRIPTION:Dir. Hong Khaou | 2014 | Cert 15 | 91 Mins |\nBen Whishaw 
 and local actor Andrew Leung star in this delicate low-budget British 
 feature. Lilting tells the story of a man (Whishaw) struggling to conn
 ect with the Cambodian Chinese mother of his boyfriend (Cheng) soon af
 ter his lover's death. Directed by Hong Khaou, Lilting explores how gr
 ief can pull people from very different backgrounds together.\n\nIntro
 duced and Q&A by Andrew Leung\n\n.\n\nONLINE BOOKING  \nDUGDALE BOX 
 OFFICE ( 020 88 076 680)\n \nTICKETS ALSO AVAILABLE FROM: \nANTHONY
  WEBB OFFICES\nPALMERS GREEN STATION CAFE\n\n\n\n\n\nFor more informat
 ion visit https://bowesandbounds.org/events/talkies-community-cinema-i
 da
DTSTART;TZID=Europe/London:20150416T194500
DTEND;TZID=Europe/London:20150416T223000
CATEGORIES:cinema, "#here"
LOCATION:Dugdale Centre
WEBSITE:http://talkies.org.uk/future-events
URL:http://talkies.org.uk/future-events
CONTACT:
ORGANIZER;CN=Administrator:https://bowesandbounds.org/profile/Administ
 rator
ATTACH;FMTTYPE="image/jpeg":http://storage.ning.com/topology/rest/1.0/
 file/get/2287288501?profile=original
ATTENDEE;ROLE=REQ-PARTICIPANT;PARTSTAT=ACCEPTED;RSVP=TRUE;CN=Administr
 ator:https://bowesandbounds.org/profile/Administrator
END:VEVENT
END:VCALENDAR
