BEGIN:VCALENDAR
PRODID:NingEventWidget-v1
VERSION:2.0
METHOD:PUBLISH
BEGIN:VTIMEZONE
TZID:Europe/London
X-LIC-LOCATION:Europe/London
BEGIN:DAYLIGHT
TZOFFSETFROM:+0000
TZOFFSETTO:+0100
TZNAME:BST
DTSTART:19700329T010000
RRULE:FREQ=YEARLY;BYMONTH=3;BYDAY=-1SU
END:DAYLIGHT
BEGIN:STANDARD
TZOFFSETFROM:+0100
TZOFFSETTO:+0000
TZNAME:GMT
DTSTART:19701025T020000
RRULE:FREQ=YEARLY;BYMONTH=10;BYDAY=-1SU
END:STANDARD
END:VTIMEZONE
BEGIN:VEVENT
UID:6278630:Event:65440
DTSTAMP:20260425T164916Z
SUMMARY:Talkies Community Cinema - Lore
DESCRIPTION:Film Screening, Lore\n| 2012 | 108 min | Dir: Cate Shortla
 nd | Cert 15\nLeft to fend for themselves after their SS officer fathe
 r and mother are interred by the victorious Allies at the end of World
  War II, 14 year old Lore leads her siblings on a journey that exposes
  them to the truth of their parents' beliefs.\nLush cinematography and
  an evocative, haunting mood infuse this unconventional take on the Ho
 locaust legacy with unforgettable impact. Tickets £5 More information
   Talkies Community Cinema website  and Facebook Page\n\n\nFor more 
 information visit https://bowesandbounds.org/events/talkies-community-
 cinema-lore
DTSTART;TZID=Europe/London:20130910T193000
DTEND;TZID=Europe/London:20130910T220000
CATEGORIES:cinema, talkies
LOCATION:Dugdale Centre
WEBSITE:https://maps.google.co.uk/maps?q=Dugdale+Centre&hl=en&ll=51.65
 8607,-0.080509&spn=0.029444,0.077162&cid=330561093370934429&gl=GB&t=m&
 z=14&iwloc=A
URL:https://maps.google.co.uk/maps?q=Dugdale+Centre&hl=en&ll=51.658607
 ,-0.080509&spn=0.029444,0.077162&cid=330561093370934429&gl=GB&t=m&z=14
 &iwloc=A
CONTACT:
ORGANIZER;CN=Administrator:https://bowesandbounds.org/profile/Administ
 rator
ATTACH;FMTTYPE="image/jpeg":http://storage.ning.com/topology/rest/1.0/
 file/get/2287254896?profile=original
ATTENDEE;ROLE=REQ-PARTICIPANT;PARTSTAT=ACCEPTED;RSVP=TRUE;CN=Administr
 ator:https://bowesandbounds.org/profile/Administrator
END:VEVENT
END:VCALENDAR
