BEGIN:VCALENDAR
PRODID:NingEventWidget-v1
VERSION:2.0
METHOD:PUBLISH
BEGIN:VTIMEZONE
TZID:Europe/London
X-LIC-LOCATION:Europe/London
BEGIN:DAYLIGHT
TZOFFSETFROM:+0000
TZOFFSETTO:+0100
TZNAME:BST
DTSTART:19700329T010000
RRULE:FREQ=YEARLY;BYMONTH=3;BYDAY=-1SU
END:DAYLIGHT
BEGIN:STANDARD
TZOFFSETFROM:+0100
TZOFFSETTO:+0000
TZNAME:GMT
DTSTART:19701025T020000
RRULE:FREQ=YEARLY;BYMONTH=10;BYDAY=-1SU
END:STANDARD
END:VTIMEZONE
BEGIN:VEVENT
UID:6278630:Event:89551
DTSTAMP:20260422T103144Z
SUMMARY:Talkies Community Cinema: PRIDE [Sold Out]
DESCRIPTION:PRIDE\n| Dir. Mattew Warchus | 2014 | Cert 15 | 120 mins\n
 U.K. gay activists work to help miners during their lengthy strike of 
 the National Union of Mineworkers in the summer of 1984. Q&A by origin
 al LGSM activists Mike Jackson and Nicola Field\n\n\nBOOK ONLINE\nTICK
 ETS ALSO AVAILABLE:\nANTHONY WEBB OFFICES\nPALMERS GREEN STATION CAFE\
 n\nFor more information visit https://bowesandbounds.org/events/talkie
 s-community-cinema-pride
DTSTART;TZID=Europe/London:20150318T190000
DTEND;TZID=Europe/London:20150318T223000
CATEGORIES:cinema, "#here"
LOCATION:The Fox
WEBSITE:http://talkies.org.uk/future-events
URL:http://talkies.org.uk/future-events
CONTACT:
ORGANIZER;CN=Administrator:https://bowesandbounds.org/profile/Administ
 rator
ATTACH;FMTTYPE="image/jpeg":http://storage.ning.com/topology/rest/1.0/
 file/get/2287277477?profile=original
ATTENDEE;ROLE=REQ-PARTICIPANT;PARTSTAT=ACCEPTED;RSVP=TRUE;CN=Administr
 ator:https://bowesandbounds.org/profile/Administrator
END:VEVENT
END:VCALENDAR
