BEGIN:VCALENDAR
PRODID:NingEventWidget-v1
VERSION:2.0
METHOD:PUBLISH
BEGIN:VTIMEZONE
TZID:Europe/London
X-LIC-LOCATION:Europe/London
BEGIN:DAYLIGHT
TZOFFSETFROM:+0000
TZOFFSETTO:+0100
TZNAME:BST
DTSTART:19700329T010000
RRULE:FREQ=YEARLY;BYMONTH=3;BYDAY=-1SU
END:DAYLIGHT
BEGIN:STANDARD
TZOFFSETFROM:+0100
TZOFFSETTO:+0000
TZNAME:GMT
DTSTART:19701025T020000
RRULE:FREQ=YEARLY;BYMONTH=10;BYDAY=-1SU
END:STANDARD
END:VTIMEZONE
BEGIN:VEVENT
UID:6278630:Event:109434
DTSTAMP:20260424T021918Z
SUMMARY:Talkies Community Cinema: THE PRODUCERS
DESCRIPTION:| THE PRODUCERS | Dir. Mel Brooks | 1967 | USA |Cert PG | 
 84 mins|\nAfter putting together another Broadway flop, down-on-his-lu
 ck producer Max Bialystock teams up with timid accountant Leo Bloom in
  a get-rich-quick scheme to put on the world's worst show.\nBook Ticke
 ts Online Tickets also on sale from La Coppia 135 Myddleton Road N22\n
 \n\n\n\n\n\nFor more information visit https://bowesandbounds.org/even
 ts/talkies-community-cinema-the-producers
DTSTART;TZID=Europe/London:20160311T190000
DTEND;TZID=Europe/London:20160311T223000
CATEGORIES:cinema, talkies, "#tbb"
LOCATION:Bounds Green Bowls & Tennis Club
WEBSITE:https://www.ticketsource.co.uk/date/221808
URL:https://www.ticketsource.co.uk/date/221808
CONTACT:
ORGANIZER:Richard McKeever
ATTACH;FMTTYPE="image/jpeg":http://storage.ning.com/topology/rest/1.0/
 file/get/2287312554?profile=original
ATTENDEE;ROLE=REQ-PARTICIPANT;PARTSTAT=ACCEPTED;RSVP=TRUE;CN="Rosalind
  Kidd":https://bowesandbounds.org/profile/RosalindKidd
ATTENDEE;ROLE=REQ-PARTICIPANT;PARTSTAT=ACCEPTED;RSVP=TRUE;CN="Richard 
 McKeever":https://bowesandbounds.org/profile/3hwxkqhdde8gc
ATTENDEE;ROLE=REQ-PARTICIPANT;PARTSTAT=ACCEPTED;RSVP=TRUE;CN=Administr
 ator:https://bowesandbounds.org/profile/Administrator
END:VEVENT
END:VCALENDAR
