BEGIN:VCALENDAR
PRODID:NingEventWidget-v1
VERSION:2.0
METHOD:PUBLISH
BEGIN:VTIMEZONE
TZID:Europe/London
X-LIC-LOCATION:Europe/London
BEGIN:DAYLIGHT
TZOFFSETFROM:+0000
TZOFFSETTO:+0100
TZNAME:BST
DTSTART:19700329T010000
RRULE:FREQ=YEARLY;BYMONTH=3;BYDAY=-1SU
END:DAYLIGHT
BEGIN:STANDARD
TZOFFSETFROM:+0100
TZOFFSETTO:+0000
TZNAME:GMT
DTSTART:19701025T020000
RRULE:FREQ=YEARLY;BYMONTH=10;BYDAY=-1SU
END:STANDARD
END:VTIMEZONE
BEGIN:VEVENT
UID:6278630:Event:137234
DTSTAMP:20260422T090558Z
SUMMARY:Talkies Outdoor Cinema - The Jungle Book (2016)
DESCRIPTION:Talkies Community Cinema presents once more its annual pic
 nic in the park in the dark - this year with the 2016 version of The J
 ungle Bookfrom Disney Studios. \nFilm critic Peter Bradshaw (Guardian
 ) writes about the film:\n“….a terrifically enjoyable piece of old
 -fashioned storytelling and a beautiful-looking film: spectacular, exc
 iting, funny and fun. It handsomely revives the spirit of Disney’s o
 riginal film, while also having something of old-school family movies 
 …\n£6 adults;  £4 children 5-15 years old; under 5s free\nBOOK TI
 CKETS\nSEE TALKES' FULL PROGRAMME\n\nFor more information visit https:
 //bowesandbounds.org/events/talkies-outdoor-cinema-the-jungle-book-201
 6
DTSTART;TZID=Europe/London:20190830T193000
DTEND;TZID=Europe/London:20190830T220000
CATEGORIES:outdoor, cinema
LOCATION:Broomfield Park, Palmers Green - the old bowling green
WEBSITE:https://www.ticketsource.co.uk/talkiescommunitycinema/t-kmorqm
URL:https://www.ticketsource.co.uk/talkiescommunitycinema/t-kmorqm
CONTACT:
ORGANIZER;CN="David Williamson":https://bowesandbounds.org/profile/Dav
 idWilliamson
ATTACH;FMTTYPE="image/jpeg":https://storage.ning.com/topology/rest/1.0
 /file/get/3388006187?profile=original
ATTENDEE;ROLE=REQ-PARTICIPANT;PARTSTAT=ACCEPTED;RSVP=TRUE;CN="David Wi
 lliamson":https://bowesandbounds.org/profile/DavidWilliamson
END:VEVENT
END:VCALENDAR
