BEGIN:VCALENDAR
PRODID:NingEventWidget-v1
VERSION:2.0
METHOD:PUBLISH
BEGIN:VTIMEZONE
TZID:Europe/London
X-LIC-LOCATION:Europe/London
BEGIN:DAYLIGHT
TZOFFSETFROM:+0000
TZOFFSETTO:+0100
TZNAME:BST
DTSTART:19700329T010000
RRULE:FREQ=YEARLY;BYMONTH=3;BYDAY=-1SU
END:DAYLIGHT
BEGIN:STANDARD
TZOFFSETFROM:+0100
TZOFFSETTO:+0000
TZNAME:GMT
DTSTART:19701025T020000
RRULE:FREQ=YEARLY;BYMONTH=10;BYDAY=-1SU
END:STANDARD
END:VTIMEZONE
BEGIN:VEVENT
UID:6278630:Event:97680
DTSTAMP:20260419T134814Z
SUMMARY:THAMES 21 SUMMER SUDS WALK
DESCRIPTION:\n\nNational Rail Enquiries lists no changes to planned tr
 ain times on Hertford Loop Bus Route w9 serves The Green, Winchmore H
 ill (Winchmore Hill Station is a close walk away) and Route 329 runs a
 long Green Lanes every 10 minutes to and from Wood Green\n\n\nJolly Fa
 rmers Public House information\nis served by Bus Route 121 stops out
 side at  Linkside bus stops (Stop B towards Enfield Chase Station, St
 op K towards Oakwood LUL)\n\n\nFor more information visit https://bowe
 sandbounds.org/events/thames-21-summer-suds-walk
DTSTART;TZID=Europe/London:20150712T150000
DTEND;TZID=Europe/London:20150712T170000
CATEGORIES:walk, suds
LOCATION:Winchmore Hill Station entrance
WEBSITE:
URL:
CONTACT:
ORGANIZER;CN="Donald Smith":https://bowesandbounds.org/profile/DonaldS
 mith
ATTACH;FMTTYPE="image/jpeg":http://storage.ning.com/topology/rest/1.0/
 file/get/2287290910?profile=original
END:VEVENT
END:VCALENDAR
