BEGIN:VCALENDAR
PRODID:NingEventWidget-v1
VERSION:2.0
METHOD:PUBLISH
BEGIN:VTIMEZONE
TZID:Europe/London
X-LIC-LOCATION:Europe/London
BEGIN:DAYLIGHT
TZOFFSETFROM:+0000
TZOFFSETTO:+0100
TZNAME:BST
DTSTART:19700329T010000
RRULE:FREQ=YEARLY;BYMONTH=3;BYDAY=-1SU
END:DAYLIGHT
BEGIN:STANDARD
TZOFFSETFROM:+0100
TZOFFSETTO:+0000
TZNAME:GMT
DTSTART:19701025T020000
RRULE:FREQ=YEARLY;BYMONTH=10;BYDAY=-1SU
END:STANDARD
END:VTIMEZONE
BEGIN:VEVENT
UID:6278630:Event:114103
DTSTAMP:20260422T062415Z
SUMMARY:Thameswater at Southgate, Chase Side
DESCRIPTION:Location: Chase Side, Southgate. 18-24 O/S TO 18-24 O/S (
 OPP)Reference: MU308000803126530045-001Status: Works ProposedWorks o
 wner: Thames Water, Street authority: EnfieldStart date: 14/05/201
 6End date: 15/05/2016Description: THIS PERMIT IS FOR THAMES WATER, W
 HICH WILL INVOLVE CARRYING OUT INTERIM TO PERMANENT REINSTATEMENT\nThe
  works involves 3-way traffic signals and disruption to all bus routes
  serving Southgate LUL\n\n\nFor more information visit https://bowesan
 dbounds.org/events/thameswater-at-southgate-chase-side
DTSTART;TZID=Europe/London:20160514T000000
DTEND;TZID=Europe/London:20160515T235900
CATEGORIES:traffic, roadworks
LOCATION:Southgate LUL
WEBSITE:
URL:
CONTACT:
ORGANIZER;CN="Donald Smith":https://bowesandbounds.org/profile/DonaldS
 mith
ATTACH;FMTTYPE="image/jpeg":
ATTENDEE;ROLE=REQ-PARTICIPANT;PARTSTAT=ACCEPTED;RSVP=TRUE;CN="Donald S
 mith":https://bowesandbounds.org/profile/DonaldSmith
END:VEVENT
END:VCALENDAR
