BEGIN:VCALENDAR
PRODID:NingEventWidget-v1
VERSION:2.0
METHOD:PUBLISH
BEGIN:VTIMEZONE
TZID:Europe/London
X-LIC-LOCATION:Europe/London
BEGIN:DAYLIGHT
TZOFFSETFROM:+0000
TZOFFSETTO:+0100
TZNAME:BST
DTSTART:19700329T010000
RRULE:FREQ=YEARLY;BYMONTH=3;BYDAY=-1SU
END:DAYLIGHT
BEGIN:STANDARD
TZOFFSETFROM:+0100
TZOFFSETTO:+0000
TZNAME:GMT
DTSTART:19701025T020000
RRULE:FREQ=YEARLY;BYMONTH=10;BYDAY=-1SU
END:STANDARD
END:VTIMEZONE
BEGIN:VEVENT
UID:6278630:Event:39883
DTSTAMP:20260424T060011Z
SUMMARY:The Alexandra Palace Organ Appeal Concert
DESCRIPTION:An opportunity to experience an Organ Concert by Stephen D
 isley the renowned Organist of Southwark Cathedral with a selection o
 f concert pieces on the Grand Willis Organ.\nTickets for the concert a
 re only available on the door, £10 (£7 for Friends of the Organ Appe
 al).\nThe event is being held by the Alexandra Palace Organ Appeal.\nT
 he appeal exists to raise funds towards the ongoing restoration of t
 he Alexandra Palace Organ.\nThe aim of the current restoration is to
  return the organ to largely its 1929 state from which the legendary 
 EMI recordings and sound samples date and when it was heralded as \"
 The Finest Concert Organ in Europe\".\nUnderground: Wood Green & W3 Bu
 s and Finsbury Park & W3 Bus. Nearest Rail: Alexandra Palace Station.
 \n\nFor more information visit https://bowesandbounds.org/events/the-a
 lexandra-palace-organ-appeal-concert-1
DTSTART;TZID=Europe/London:20120516T193000
DTEND;TZID=Europe/London:20120516T213000
CATEGORIES:music, fundraiser, organ
LOCATION:Alexandra Palace
WEBSITE:http://allypallyorgan.org.uk/index.php
URL:http://allypallyorgan.org.uk/index.php
CONTACT:
ORGANIZER;CN=Administrator:https://bowesandbounds.org/profile/Administ
 rator
ATTACH;FMTTYPE="image/jpeg":http://storage.ning.com/topology/rest/1.0/
 file/get/2287233131?profile=original
ATTENDEE;ROLE=REQ-PARTICIPANT;PARTSTAT=ACCEPTED;RSVP=TRUE;CN=Administr
 ator:https://bowesandbounds.org/profile/Administrator
END:VEVENT
END:VCALENDAR
