BEGIN:VCALENDAR
PRODID:NingEventWidget-v1
VERSION:2.0
METHOD:PUBLISH
BEGIN:VTIMEZONE
TZID:Europe/London
X-LIC-LOCATION:Europe/London
BEGIN:DAYLIGHT
TZOFFSETFROM:+0000
TZOFFSETTO:+0100
TZNAME:BST
DTSTART:19700329T010000
RRULE:FREQ=YEARLY;BYMONTH=3;BYDAY=-1SU
END:DAYLIGHT
BEGIN:STANDARD
TZOFFSETFROM:+0100
TZOFFSETTO:+0000
TZNAME:GMT
DTSTART:19701025T020000
RRULE:FREQ=YEARLY;BYMONTH=10;BYDAY=-1SU
END:STANDARD
END:VTIMEZONE
BEGIN:VEVENT
UID:6278630:Event:72613
DTSTAMP:20260422T215614Z
SUMMARY:THE ARBOR Talkies Community Cinema screening
DESCRIPTION:The ARBOUR Dir. Clio Barnard (2010) Cert 12\nOn Internatio
 nal Women’s Day, this unconventional film from director Clio Barnard
  is a truly unique work that transcends genre and defies categorizatio
 n.The film is a portrayal of the late Bradford playwright Andrea Dunba
 r. It plays out the tough choices she made to be a creative writer and
  the consequent effect on her role as a parent.\nIntroduced by Tricia 
 Sharpe\nBOOK TICKETS ONLINE Phone reservations 020 8807 6680\n\n\n\n\n
 For more information visit https://bowesandbounds.org/events/the-arbor
 -talkies-community-cinema-screening
DTSTART;TZID=Europe/London:20140308T193000
DTEND;TZID=Europe/London:20140308T220000
CATEGORIES:cinema, talkies
LOCATION:Dugdale Centre
WEBSITE:https://maps.google.co.uk/maps?q=Dugdale+Centre&hl=en&ll=51.65
 8607,-0.080509&spn=0.029444,0.077162&cid=330561093370934429&gl=GB&t=m&
 z=14&iwloc=A
URL:https://maps.google.co.uk/maps?q=Dugdale+Centre&hl=en&ll=51.658607
 ,-0.080509&spn=0.029444,0.077162&cid=330561093370934429&gl=GB&t=m&z=14
 &iwloc=A
CONTACT:
ORGANIZER;CN=Administrator:https://bowesandbounds.org/profile/Administ
 rator
ATTACH;FMTTYPE="image/jpeg":http://storage.ning.com/topology/rest/1.0/
 file/get/2287262063?profile=original
ATTENDEE;ROLE=REQ-PARTICIPANT;PARTSTAT=ACCEPTED;RSVP=TRUE;CN=Administr
 ator:https://bowesandbounds.org/profile/Administrator
END:VEVENT
END:VCALENDAR
