BEGIN:VCALENDAR
PRODID:NingEventWidget-v1
VERSION:2.0
METHOD:PUBLISH
BEGIN:VTIMEZONE
TZID:Europe/London
X-LIC-LOCATION:Europe/London
BEGIN:DAYLIGHT
TZOFFSETFROM:+0000
TZOFFSETTO:+0100
TZNAME:BST
DTSTART:19700329T010000
RRULE:FREQ=YEARLY;BYMONTH=3;BYDAY=-1SU
END:DAYLIGHT
BEGIN:STANDARD
TZOFFSETFROM:+0100
TZOFFSETTO:+0000
TZNAME:GMT
DTSTART:19701025T020000
RRULE:FREQ=YEARLY;BYMONTH=10;BYDAY=-1SU
END:STANDARD
END:VTIMEZONE
BEGIN:VEVENT
UID:6278630:Event:117170
DTSTAMP:20260423T082223Z
SUMMARY:The Big Draw at Alexandra Palace
DESCRIPTION:Alexandra Palace is delighted to be participating in the B
 ig Draw Festival on Monday 24th and Tuesday 25th October. The Big draw
  is an annual event celebrating drawing for anyone who loves to draw
 , as well as those who think they can't!\nThis year’s theme The STE
 AM, recalling the UK’s our Industrial past and the fusion of creativ
 e innovation, enterprise and the arts. Families will discover the acti
 vities & events that brought thousands of Victorian Londoners to the P
 alace, why the opening of a station in 1873 was so important before co
 nsidering how visitors of the future will arrive!\nTravel back in time
  in our drawing activities to discover how the\n Palace was originall
 y used and help us plan for the future by imagining activities\n for 
 2050 and create a giant timeline showcasing 150 years of history\nAges
 \n5-12\nLocation\nCUFOS (Top of Duke’s Avenue)\nTimes\n•     
           10:30 - 11:30\n•               11:3
 0 - 12:30\n•               12:30 - 13:30 (last entry: 
 13:00)\n \nThis is a free event but booking is required in advance. Y
 ou can book your tickets at: https://www.eventbrite.co.uk/e/the-big-dr
 aw-at-alexandra-palace-tickets-28139187066\n \nFor more information, 
 please contact community@alexandrapalace.com\n \n\nFor more informati
 on visit https://bowesandbounds.org/events/the-big-draw-at-alexandra-p
 alace
DTSTART;TZID=Europe/London:20161024T103000
DTEND;TZID=Europe/London:20161025T130000
CATEGORIES:family, event
LOCATION:CUFOS (Top of The Duke's Avenue, London N10 2QE)
WEBSITE:https://www.eventbrite.co.uk/e/the-big-draw-at-alexandra-palac
 e-tickets-28139187066
URL:https://www.eventbrite.co.uk/e/the-big-draw-at-alexandra-palace-ti
 ckets-28139187066
CONTACT:
ORGANIZER;CN="Isobel Aptaker":https://bowesandbounds.org/profile/Isobe
 lAptaker
ATTACH;FMTTYPE="image/jpeg":http://storage.ning.com/topology/rest/1.0/
 file/get/2287313486?profile=original
ATTENDEE;ROLE=REQ-PARTICIPANT;PARTSTAT=ACCEPTED;RSVP=TRUE;CN="Isobel A
 ptaker":https://bowesandbounds.org/profile/IsobelAptaker
END:VEVENT
END:VCALENDAR
