BEGIN:VCALENDAR
PRODID:NingEventWidget-v1
VERSION:2.0
METHOD:PUBLISH
BEGIN:VTIMEZONE
TZID:Europe/London
X-LIC-LOCATION:Europe/London
BEGIN:DAYLIGHT
TZOFFSETFROM:+0000
TZOFFSETTO:+0100
TZNAME:BST
DTSTART:19700329T010000
RRULE:FREQ=YEARLY;BYMONTH=3;BYDAY=-1SU
END:DAYLIGHT
BEGIN:STANDARD
TZOFFSETFROM:+0100
TZOFFSETTO:+0000
TZNAME:GMT
DTSTART:19701025T020000
RRULE:FREQ=YEARLY;BYMONTH=10;BYDAY=-1SU
END:STANDARD
END:VTIMEZONE
BEGIN:VEVENT
UID:6278630:Event:240406
DTSTAMP:20260421T170807Z
SUMMARY:The Big Green Fair
DESCRIPTION:\nMuswell Hill Sustainability Group presents:\n \nThe Big
  Green Fair\nSunday 29th May, 10am-2pm\nHornsey Parish Church Hall, 
 Cranley Gardens N10 3AH\nZero packaging groceries\nLocal beer\nArt and
  crafts\nLow impact beauty\nVegan lunches\nCakes\nDr Bike \nHome ener
 gy advice\nLocal sustainability groups\nand more..\n£1 entry\nBring y
 our reusable cups, refillable containers, old printer cartridges, bike
 s for repair..\nMuswell Hill Sustainability Group\nWebsite:     www
 .mhsgroup.org\nemail:         info@mhsgroup.org\nFacebook:  fac
 ebook.com/muswellhillsustainability\nTwitter:       @MuswellHillSu
 st\nInstagram:  MuswellHillSustainabilityGroup\n\n\n\n\n\n\n\nFor mo
 re information visit https://bowesandbounds.org/events/the-big-green-f
 air
DTSTART;TZID=Europe/London:20220529T100000
DTEND;TZID=Europe/London:20220529T140000
CATEGORIES:green, community, fair
LOCATION:Hornsey Parish Church Hall
WEBSITE:http://www.mhsgroup.org
URL:http://www.mhsgroup.org
CONTACT:
ORGANIZER;CN="Mary Blake":https://bowesandbounds.org/profile/MaryBlake
ATTACH;FMTTYPE="image/jpeg":https://storage.ning.com/topology/rest/1.0
 /file/get/10505848465?profile=original
ATTENDEE;ROLE=REQ-PARTICIPANT;PARTSTAT=ACCEPTED;RSVP=TRUE;CN="Mary Bla
 ke":https://bowesandbounds.org/profile/MaryBlake
END:VEVENT
END:VCALENDAR
