BEGIN:VCALENDAR
PRODID:NingEventWidget-v1
VERSION:2.0
METHOD:PUBLISH
BEGIN:VTIMEZONE
TZID:Europe/London
X-LIC-LOCATION:Europe/London
BEGIN:DAYLIGHT
TZOFFSETFROM:+0000
TZOFFSETTO:+0100
TZNAME:BST
DTSTART:19700329T010000
RRULE:FREQ=YEARLY;BYMONTH=3;BYDAY=-1SU
END:DAYLIGHT
BEGIN:STANDARD
TZOFFSETFROM:+0100
TZOFFSETTO:+0000
TZNAME:GMT
DTSTART:19701025T020000
RRULE:FREQ=YEARLY;BYMONTH=10;BYDAY=-1SU
END:STANDARD
END:VTIMEZONE
BEGIN:VEVENT
UID:6278630:Event:140481
DTSTAMP:20260422T214050Z
SUMMARY:The Brass Monkeys
DESCRIPTION:The Brass Monkeys have just reformed with a mix of some of
  the UK’s most exciting players to explore the textures and timbres 
 that a group of excellent improvisers can bring to this music.\nThe re
 pertoire is half and half original and a range of material from all ki
 nds of sources including tunes by Herbie Nicols, Bill Frisell, Lillian
  Armstrong, Archie Shepp, Jonas Gwangwa, Lester Bowie, Taj Mahal, Thel
 onious Monk and Dudu Pukwana.\nOver the years ensemble members have wo
 rked with (to name a few) Joan Armatrading, Lianne Carroll, Elvis Cost
 ello, Julia Doyle, Joe Gallivan, Joe Jackson, Chris MacGregor's Brothe
 rhood of Breath, Louis Moholo Moholo, Laura Mvula, Maggie Nicols, Natu
 ral Causes, Courtney Pine, Dudu Pukwana, The People Band, Chis Rea, Jo
 hn Russell, Paul Rutherford, John Stevens, The Style Council, Keith Ti
 ppett, Jah Wobble and Robert Wyatt.\nDoors at 7pm, music from 8pm.\n\n
 For more information visit https://bowesandbounds.org/events/the-brass
 -monkeys
DTSTART;TZID=Europe/London:20200604T190000
DTEND;TZID=Europe/London:20200604T233000
CATEGORIES:music
LOCATION:KaramelN22
WEBSITE:https://www.musicglue.com/karamel/events/2020-07-02-the-brass-
 monkeys-karamel
URL:https://www.musicglue.com/karamel/events/2020-07-02-the-brass-monk
 eys-karamel
CONTACT:
ORGANIZER;CN="Collage Arts":https://bowesandbounds.org/profile/Collage
 Arts105
ATTACH;FMTTYPE="image/jpeg":https://storage.ning.com/topology/rest/1.0
 /file/get/4075335568?profile=original
ATTENDEE;ROLE=REQ-PARTICIPANT;PARTSTAT=ACCEPTED;RSVP=TRUE;CN="Collage 
 Arts":https://bowesandbounds.org/profile/CollageArts105
END:VEVENT
END:VCALENDAR
