BEGIN:VCALENDAR
PRODID:NingEventWidget-v1
VERSION:2.0
METHOD:PUBLISH
BEGIN:VTIMEZONE
TZID:Europe/London
X-LIC-LOCATION:Europe/London
BEGIN:DAYLIGHT
TZOFFSETFROM:+0000
TZOFFSETTO:+0100
TZNAME:BST
DTSTART:19700329T010000
RRULE:FREQ=YEARLY;BYMONTH=3;BYDAY=-1SU
END:DAYLIGHT
BEGIN:STANDARD
TZOFFSETFROM:+0100
TZOFFSETTO:+0000
TZNAME:GMT
DTSTART:19701025T020000
RRULE:FREQ=YEARLY;BYMONTH=10;BYDAY=-1SU
END:STANDARD
END:VTIMEZONE
BEGIN:VEVENT
UID:6278630:Event:252928
DTSTAMP:20260423T171923Z
SUMMARY:The Brook
DESCRIPTION:Dear Neighbours,\n\n\nDid you know we have a river in Boun
 ds Green? \nWe regularly test the water quality that is always poor.\
 n\nLearn more at the exhibition and Artist Talk.\n\nWe deserve clean r
 ivers,\n\nAll Welcome \n\nFor more information visit https://bowesand
 bounds.org/events/the-brook
DTSTART;TZID=Europe/London:20260218T130000
DTEND;TZID=Europe/London:20260322T170000
CATEGORIES:art, exhibition
LOCATION:Bruce Castle Museum
WEBSITE:https://www.bnathan.co.uk/
URL:https://www.bnathan.co.uk/
CONTACT:
ORGANIZER;CN="Bounds Green Rangers":https://bowesandbounds.org/profile
 /BoundsGreenRangers
ATTACH;FMTTYPE="image/jpeg":https://storage.ning.com/topology/rest/1.0
 /file/get/31091278099?profile=original
ATTENDEE;ROLE=REQ-PARTICIPANT;PARTSTAT=ACCEPTED;RSVP=TRUE;CN="Bounds G
 reen Rangers":https://bowesandbounds.org/profile/BoundsGreenRangers
END:VEVENT
END:VCALENDAR
