BEGIN:VCALENDAR
PRODID:NingEventWidget-v1
VERSION:2.0
METHOD:PUBLISH
BEGIN:VTIMEZONE
TZID:Europe/London
X-LIC-LOCATION:Europe/London
BEGIN:DAYLIGHT
TZOFFSETFROM:+0000
TZOFFSETTO:+0100
TZNAME:BST
DTSTART:19700329T010000
RRULE:FREQ=YEARLY;BYMONTH=3;BYDAY=-1SU
END:DAYLIGHT
BEGIN:STANDARD
TZOFFSETFROM:+0100
TZOFFSETTO:+0000
TZNAME:GMT
DTSTART:19701025T020000
RRULE:FREQ=YEARLY;BYMONTH=10;BYDAY=-1SU
END:STANDARD
END:VTIMEZONE
BEGIN:VEVENT
UID:6278630:Event:250649
DTSTAMP:20260421T070545Z
SUMMARY:The Example
DESCRIPTION:\nJoin us for an electrifying night celebrating independen
 t and emerging artists. The Example is more than just a concert—it's
  a platform to spotlight fresh talent, foster creativity, and build co
 mmunity.\nThroughout the night, enjoy live performances from up-and-co
 ming musicians, to open mic session inviting spontaneous creativity, t
 o dynamic DJ set to keep your energy high. MORE ! Opportunities to con
 nect and network with fellow artists and industry creatives.\nCome for
  the music, stay for the inspiration.\nKaramel - 4 Coburg Road, London
  N22 6UJ. The Karamel vegan kitchen will be serving food until 9.30pm.
  Email karamel8775@gmail.com to book a table for groups of 3+.\nDoors 
 open 7pm, music starts at 8pm.\nEarly Bird £3 Standard Ticket: £5\n\
 nFor more information visit https://bowesandbounds.org/events/the-exam
 ple
DTSTART;TZID=Europe/London:20250620T190000
DTEND;TZID=Europe/London:20250620T220000
CATEGORIES:veganvenue, veganfood, livemusic
LOCATION:Karamel, 4 Coburg Road, Wood Green, London N22 6UJ
WEBSITE:https://www.musicglue.com/karamel/events/2025-06-20-the-exampl
 e-karamel
URL:https://www.musicglue.com/karamel/events/2025-06-20-the-example-ka
 ramel
CONTACT:
ORGANIZER;CN="Collage Artspaces":https://bowesandbounds.org/profile/Co
 llage_Arts
ATTACH;FMTTYPE="image/jpeg":https://storage.ning.com/topology/rest/1.0
 /file/get/13544012490?profile=original
ATTENDEE;ROLE=REQ-PARTICIPANT;PARTSTAT=ACCEPTED;RSVP=TRUE;CN="Collage 
 Artspaces":https://bowesandbounds.org/profile/Collage_Arts
END:VEVENT
END:VCALENDAR
