BEGIN:VCALENDAR
PRODID:NingEventWidget-v1
VERSION:2.0
METHOD:PUBLISH
BEGIN:VTIMEZONE
TZID:Europe/London
X-LIC-LOCATION:Europe/London
BEGIN:DAYLIGHT
TZOFFSETFROM:+0000
TZOFFSETTO:+0100
TZNAME:BST
DTSTART:19700329T010000
RRULE:FREQ=YEARLY;BYMONTH=3;BYDAY=-1SU
END:DAYLIGHT
BEGIN:STANDARD
TZOFFSETFROM:+0100
TZOFFSETTO:+0000
TZNAME:GMT
DTSTART:19701025T020000
RRULE:FREQ=YEARLY;BYMONTH=10;BYDAY=-1SU
END:STANDARD
END:VTIMEZONE
BEGIN:VEVENT
UID:6278630:Event:123159
DTSTAMP:20260425T012008Z
SUMMARY:The Goat Roper Rodeo Band at Bowes Park Folk Club
DESCRIPTION:A fresh energetic band - \"wonderfully executed acoustic c
 ountry blues with two guitars, a double bass and plaintive striking ha
 rmonies, a musical landscape driven by old timey sensibilities …ther
 e’s a lot to like about the Goat Roper Rodeo Band.” (R2 Magazine)\
 nPlus Mum's all you can eat buffet (£9.95) from 7pm - come early to g
 et scoffing!\n£7     bowesparkfolk@gmail.com    07774 147296\n\
 nFor more information visit https://bowesandbounds.org/events/the-goat
 -roper-rodeo-band-at-bowes-park-folk-club
DTSTART;TZID=Europe/London:20170601T200000
DTEND;TZID=Europe/London:20170601T230000
CATEGORIES:folk, music
LOCATION:Mum's Bistro
WEBSITE:http://www.bowesandbounds.org/group/bowes-park-folk-club
URL:http://www.bowesandbounds.org/group/bowes-park-folk-club
CONTACT:07774 147296
ORGANIZER;CN="Catharine Perry":https://bowesandbounds.org/profile/Cath
 arinePerry
ATTACH;FMTTYPE="image/jpeg":http://storage.ning.com/topology/rest/1.0/
 file/get/2287318749?profile=original
ATTENDEE;ROLE=REQ-PARTICIPANT;PARTSTAT=ACCEPTED;RSVP=TRUE;CN="Catharin
 e Perry":https://bowesandbounds.org/profile/CatharinePerry
END:VEVENT
END:VCALENDAR
