BEGIN:VCALENDAR
PRODID:NingEventWidget-v1
VERSION:2.0
METHOD:PUBLISH
BEGIN:VTIMEZONE
TZID:Europe/London
X-LIC-LOCATION:Europe/London
BEGIN:DAYLIGHT
TZOFFSETFROM:+0000
TZOFFSETTO:+0100
TZNAME:BST
DTSTART:19700329T010000
RRULE:FREQ=YEARLY;BYMONTH=3;BYDAY=-1SU
END:DAYLIGHT
BEGIN:STANDARD
TZOFFSETFROM:+0100
TZOFFSETTO:+0000
TZNAME:GMT
DTSTART:19701025T020000
RRULE:FREQ=YEARLY;BYMONTH=10;BYDAY=-1SU
END:STANDARD
END:VTIMEZONE
BEGIN:VEVENT
UID:6278630:Event:151219
DTSTAMP:20260422T184447Z
SUMMARY:The Greatest Showman
DESCRIPTION:Step right up… and into the spellbinding imagination of 
 a man who set out to reveal that life itself can be the most thrilling
  show of all. Inspired by the legend and ambitions of America’s orig
 inal pop-culture impresario, P.T. Barnum (Hugh Jackman), comes an insp
 irational rags-to-riches tale of a brash dreamer who rose from nothing
  to prove that anything you can envision is possible and that everyone
 , no matter how invisible, has a stupendous story worthy of a world-cl
 ass spectacle. Hugh Jackman leads an all-star cast in this bold and or
 iginal musical filled with infectious showstopping performances that w
 ill bring you to your feet time and time again. Also starring Zac Efro
 n, Michelle Williams, Rebecca Ferguson and Zendaya.\n\nFor more inform
 ation visit https://bowesandbounds.org/events/the-greatest-showman
DTSTART;TZID=Europe/London:20201011T194500
DTEND;TZID=Europe/London:20201011T230000
CATEGORIES:film, screening
LOCATION:Broomfield Park
WEBSITE:https://talkies.org.uk/event/the-greatest-showman/
URL:https://talkies.org.uk/event/the-greatest-showman/
CONTACT:
ORGANIZER;CN="Daniel Cowan":https://bowesandbounds.org/profile/DanielC
 owan
ATTACH;FMTTYPE="image/jpeg":
ATTENDEE;ROLE=REQ-PARTICIPANT;PARTSTAT=ACCEPTED;RSVP=TRUE;CN="Daniel C
 owan":https://bowesandbounds.org/profile/DanielCowan
END:VEVENT
END:VCALENDAR
