BEGIN:VCALENDAR
PRODID:NingEventWidget-v1
VERSION:2.0
METHOD:PUBLISH
BEGIN:VTIMEZONE
TZID:Europe/London
X-LIC-LOCATION:Europe/London
BEGIN:DAYLIGHT
TZOFFSETFROM:+0000
TZOFFSETTO:+0100
TZNAME:BST
DTSTART:19700329T010000
RRULE:FREQ=YEARLY;BYMONTH=3;BYDAY=-1SU
END:DAYLIGHT
BEGIN:STANDARD
TZOFFSETFROM:+0100
TZOFFSETTO:+0000
TZNAME:GMT
DTSTART:19701025T020000
RRULE:FREQ=YEARLY;BYMONTH=10;BYDAY=-1SU
END:STANDARD
END:VTIMEZONE
BEGIN:VEVENT
UID:6278630:Event:245499
DTSTAMP:20260419T151640Z
SUMMARY:The Lady Constantia Ghost Walk
DESCRIPTION:The story of the ghost of Bruce Castle is shrouded in both
  history and mystery. What we know for certain is that Lord Henry Hare
  and his wife Constantia lived at Bruce Castle in the late 17th centur
 y. What happened next is a fusion of historical fact and legend.\nIt i
 s said that on November 3rd every year it’s possible to see her ghos
 t haunting the Castle. Come on this fact finding walk to find out the 
 truth behind the legend!\nMeet: Main entrance to Bruce Castle Museum &
  Archive, under the clocktower, 11am. \nPlease wear suitable footwear
  for walking.\nBook your free ticket for this walk via Eventbrite.\n\
 nFor more information visit https://bowesandbounds.org/events/the-lady
 -constantia-ghost-walk
DTSTART;TZID=Europe/London:20231031T110000
DTEND;TZID=Europe/London:20231031T123000
CATEGORIES:"local history walk"
LOCATION:Bruce Castle Museum
WEBSITE:https://www.brucecastle.org/events/lady-constantia-ghost-walk
URL:https://www.brucecastle.org/events/lady-constantia-ghost-walk
CONTACT:02084894250
ORGANIZER:museum.services@haringey.gov.uk
ATTACH;FMTTYPE="image/jpeg":https://storage.ning.com/topology/rest/1.0
 /file/get/12255067483?profile=original
ATTENDEE;ROLE=REQ-PARTICIPANT;PARTSTAT=ACCEPTED;RSVP=TRUE;CN="Mark Wel
 ls":https://bowesandbounds.org/profile/MarkWells
END:VEVENT
END:VCALENDAR
