BEGIN:VCALENDAR
PRODID:NingEventWidget-v1
VERSION:2.0
METHOD:PUBLISH
BEGIN:VTIMEZONE
TZID:Europe/London
X-LIC-LOCATION:Europe/London
BEGIN:DAYLIGHT
TZOFFSETFROM:+0000
TZOFFSETTO:+0100
TZNAME:BST
DTSTART:19700329T010000
RRULE:FREQ=YEARLY;BYMONTH=3;BYDAY=-1SU
END:DAYLIGHT
BEGIN:STANDARD
TZOFFSETFROM:+0100
TZOFFSETTO:+0000
TZNAME:GMT
DTSTART:19701025T020000
RRULE:FREQ=YEARLY;BYMONTH=10;BYDAY=-1SU
END:STANDARD
END:VTIMEZONE
BEGIN:VEVENT
UID:6278630:Event:40008
DTSTAMP:20260422T024250Z
SUMMARY:The Nightingales by Peter Quilter
DESCRIPTION:UKÂ PremiÃ¨reÂ of a new play by Peter Quilter, author of W
 est End and Broadway sensation \"End of The Rainbow\"\nSt John's Playe
 rs are happy to perform this delightful comedy.\nAll welcome tickets Â
 £8 from stjohnsplayers@hotmail.co.uk or telephone 079 0558 6874\nhttp:
 //www.stjohnsplayers-pg.org.uk\n\nFor more information visit https://b
 owesandbounds.org/events/the-nightingales-by-peter-quilter-2
DTSTART;TZID=Europe/London:20120519T150000
DTEND;TZID=Europe/London:20120519T173000
CATEGORIES:theatre
LOCATION:St John's Hall
WEBSITE:http://g.co/maps/dfnn9
URL:http://g.co/maps/dfnn9
CONTACT:
ORGANIZER:St John's Players
ATTACH;FMTTYPE="image/jpeg":http://storage.ning.com/topology/rest/1.0/
 file/get/2287234739?profile=original
ATTENDEE;ROLE=REQ-PARTICIPANT;PARTSTAT=ACCEPTED;RSVP=TRUE;CN="erica he
 witt":https://bowesandbounds.org/profile/ericahewitt
END:VEVENT
END:VCALENDAR
