BEGIN:VCALENDAR
PRODID:NingEventWidget-v1
VERSION:2.0
METHOD:PUBLISH
BEGIN:VTIMEZONE
TZID:Europe/London
X-LIC-LOCATION:Europe/London
BEGIN:DAYLIGHT
TZOFFSETFROM:+0000
TZOFFSETTO:+0100
TZNAME:BST
DTSTART:19700329T010000
RRULE:FREQ=YEARLY;BYMONTH=3;BYDAY=-1SU
END:DAYLIGHT
BEGIN:STANDARD
TZOFFSETFROM:+0100
TZOFFSETTO:+0000
TZNAME:GMT
DTSTART:19701025T020000
RRULE:FREQ=YEARLY;BYMONTH=10;BYDAY=-1SU
END:STANDARD
END:VTIMEZONE
BEGIN:VEVENT
UID:6278630:Event:137852
DTSTAMP:20260423T184210Z
SUMMARY:XR North London Uprising is taking place in Haringey on 7-8th 
 September
DESCRIPTION:Join Extinction Rebellion groups from Barnet, Islington, E
 nfield, Camden and Haringey for a weekend celebrating community spirit
  with family activities and live music from local bands, a variety of 
 workshops and discussion panels on topics ranging from animal agricult
 ure to fast fashion, a funeral march and fashion pause, people's and c
 hildren's assemblies, arts and crafts and yoga classes, swarming and o
 f course the 'Heading for Extinction' talk. Come and find out more abo
 ut it, in a local setting. And prepare for the International Uprising 
 starting 7th October !\n \nSunday will be a quieter, Family day, endi
 ng with the Green Lanes Parade at 5.30pm. Bring drums, shakers, instru
 ments and flags for a march down Green Lanes from Turnpike Lane to Man
 or House, where a closing ceremony will be held.\nA draft timetable ha
 s been posted on their Facebook page:\nhttps://www.facebook.com/events
 /465916017595142\n \n\nFor more information visit https://bowesandbou
 nds.org/events/the-north-london-uprising-is-taking-place-in-haringey-o
 n-7-8th
DTSTART;TZID=Europe/London:20190907T000000
DTEND;TZID=Europe/London:20190908T235900
CATEGORIES:"extinction rebellion"
LOCATION:Ducketts Common (Turnpike Lane) and Downhills Park
WEBSITE:
URL:
CONTACT:
ORGANIZER;CN="Annabel Gregory":https://bowesandbounds.org/profile/Anna
 belGregory
ATTACH;FMTTYPE="image/jpeg":https://storage.ning.com/topology/rest/1.0
 /file/get/3418808055?profile=original
ATTENDEE;ROLE=REQ-PARTICIPANT;PARTSTAT=ACCEPTED;RSVP=TRUE;CN="Annabel 
 Gregory":https://bowesandbounds.org/profile/AnnabelGregory
END:VEVENT
END:VCALENDAR
