BEGIN:VCALENDAR
PRODID:NingEventWidget-v1
VERSION:2.0
METHOD:PUBLISH
BEGIN:VTIMEZONE
TZID:Europe/London
X-LIC-LOCATION:Europe/London
BEGIN:DAYLIGHT
TZOFFSETFROM:+0000
TZOFFSETTO:+0100
TZNAME:BST
DTSTART:19700329T010000
RRULE:FREQ=YEARLY;BYMONTH=3;BYDAY=-1SU
END:DAYLIGHT
BEGIN:STANDARD
TZOFFSETFROM:+0100
TZOFFSETTO:+0000
TZNAME:GMT
DTSTART:19701025T020000
RRULE:FREQ=YEARLY;BYMONTH=10;BYDAY=-1SU
END:STANDARD
END:VTIMEZONE
BEGIN:VEVENT
UID:6278630:Event:132948
DTSTAMP:20260421T191429Z
SUMMARY:THE RANELAGH RE-OPENING PARTY - WITH SOULFOOLS!
DESCRIPTION:\nWe have had Halloween, we are in the middle of Guy Fawke
 s celebrations , and then..... we have the Ranelagh re-opening party!!
  Just when you thought life was quiet again!!\n\nThe Ran has been clos
 ed for a bit of a refurb and refresh.\nCome along to the party on NOV 
 8TH and enjoy the evening - supported by Tanqueray Gin, Camden Brewery
  and Old Mout cider. There will also be canapes!\n\nSOULFOOLS will pro
 vide the entertainment!!\n\nBook early if you want the best seats.\n\n
 For more information visit https://bowesandbounds.org/events/the-ranel
 agh-re-opening-party-with-soulfools
DTSTART;TZID=Europe/London:20181108T200000
DTEND;TZID=Europe/London:20181108T230000
CATEGORIES:party, and, live, music
LOCATION:the
WEBSITE:
URL:
CONTACT:
ORGANIZER;CN=SA:https://bowesandbounds.org/profile/SA
ATTACH;FMTTYPE="image/jpeg":
ATTENDEE;ROLE=REQ-PARTICIPANT;PARTSTAT=ACCEPTED;RSVP=TRUE;CN=SA:https:
 //bowesandbounds.org/profile/SA
END:VEVENT
END:VCALENDAR
