BEGIN:VCALENDAR
PRODID:NingEventWidget-v1
VERSION:2.0
METHOD:PUBLISH
BEGIN:VTIMEZONE
TZID:Europe/London
X-LIC-LOCATION:Europe/London
BEGIN:DAYLIGHT
TZOFFSETFROM:+0000
TZOFFSETTO:+0100
TZNAME:BST
DTSTART:19700329T010000
RRULE:FREQ=YEARLY;BYMONTH=3;BYDAY=-1SU
END:DAYLIGHT
BEGIN:STANDARD
TZOFFSETFROM:+0100
TZOFFSETTO:+0000
TZNAME:GMT
DTSTART:19701025T020000
RRULE:FREQ=YEARLY;BYMONTH=10;BYDAY=-1SU
END:STANDARD
END:VTIMEZONE
BEGIN:VEVENT
UID:6278630:Event:40163
DTSTAMP:20260422T023933Z
SUMMARY:The Rockin Boys in aid of Marie Curie
DESCRIPTION:we're playing a gig next Friday at a good pub in North Fin
 chley called The Elephant Inn (you can find exceedingly delicious Thai
  food there if you so wish). It's a free slice of giggery, however the
 re will be buckets aplenty waiting for your delicious treasures to aid
  that lovely Marie Curie cancer charity. Which is nice. We're playing 
 a set around 8.30/9-ish,\n\nSo if you fancy it, that would be lovely. 
 The nearest tube station is West Finchley, which is about a 10-15 minu
 te from the pub (at a reasonably quick pace, and you have to walk uphi
 ll a little bit, so be prepared for the hour of your doom). Or alterna
 tively the 221 bus stops right outside Waitrose, which is right next t
 o the pub. Lovely. Or you can get a variety of other busses to North F
 inchley bus station, which is just dahn the road innit.  The postcode 
 for the purposes of your power-hungry technology is N12 8NR.  And we a
 ll love declaring on Facebook when we're going somewhere, so here's th
 e Facebook event page for your perusal: https://www.facebook.com/even
 ts/131750700289133/?ref=ts\n\nFor more information visit https://bowes
 andbounds.org/events/the-rockin-boys-in-aid-of-marie-curie
DTSTART;TZID=Europe/London:20120518T200000
DTEND;TZID=Europe/London:20120518T234500
CATEGORIES:fundraiser
LOCATION:The Elephant Inn
WEBSITE:http://www.fullers.co.uk/rte.asp?id=243&itemid=90&task=View
URL:http://www.fullers.co.uk/rte.asp?id=243&itemid=90&task=View
CONTACT:020 8343 6110
ORGANIZER;CN="Pat Casey":https://bowesandbounds.org/profile/PatCasey
ATTACH;FMTTYPE="image/jpeg":http://storage.ning.com/topology/rest/1.0/
 file/get/2287233406?profile=original
ATTENDEE;ROLE=REQ-PARTICIPANT;PARTSTAT=ACCEPTED;RSVP=TRUE;CN="Pat Case
 y":https://bowesandbounds.org/profile/PatCasey
END:VEVENT
END:VCALENDAR
